BEGIN:VCALENDAR
PRODID:-//nuDatenautomaten//framework iCal4j //DE
VERSION:2.0
CALSCALE:GREGORIAN
BEGIN:VTIMEZONE
TZID:Europe/Berlin
LAST-MODIFIED:20260306T231828Z
TZURL:https://www.tzurl.org/zoneinfo/Europe/Berlin
X-LIC-LOCATION:Europe/Berlin
X-PROLEPTIC-TZNAME:LMT
BEGIN:STANDARD
TZNAME:CET
TZOFFSETFROM:+005328
TZOFFSETTO:+0100
DTSTART:18930401T000000
END:STANDARD
BEGIN:DAYLIGHT
TZNAME:CEST
TZOFFSETFROM:+0100
TZOFFSETTO:+0200
DTSTART:19160430T230000
RDATE:19400401T020000
RDATE:19430329T020000
RDATE:19460414T020000
RDATE:19470406T030000
RDATE:19480418T020000
RDATE:19490410T020000
RDATE:19800406T020000
END:DAYLIGHT
BEGIN:STANDARD
TZNAME:CET
TZOFFSETFROM:+0200
TZOFFSETTO:+0100
DTSTART:19161001T010000
RDATE:19421102T030000
RDATE:19431004T030000
RDATE:19441002T030000
RDATE:19451118T030000
RDATE:19461007T030000
END:STANDARD
BEGIN:DAYLIGHT
TZNAME:CEST
TZOFFSETFROM:+0100
TZOFFSETTO:+0200
DTSTART:19170416T020000
RRULE:FREQ=YEARLY;UNTIL=19180415T010000Z;BYMONTH=4;BYDAY=3MO
END:DAYLIGHT
BEGIN:STANDARD
TZNAME:CET
TZOFFSETFROM:+0200
TZOFFSETTO:+0100
DTSTART:19170917T030000
RRULE:FREQ=YEARLY;UNTIL=19180916T010000Z;BYMONTH=9;BYDAY=3MO
END:STANDARD
BEGIN:DAYLIGHT
TZNAME:CEST
TZOFFSETFROM:+0100
TZOFFSETTO:+0200
DTSTART:19440403T020000
RRULE:FREQ=YEARLY;UNTIL=19450402T010000Z;BYMONTH=4;BYDAY=1MO
END:DAYLIGHT
BEGIN:DAYLIGHT
TZNAME:CEMT
TZOFFSETFROM:+0200
TZOFFSETTO:+0300
DTSTART:19450524T020000
RDATE:19470511T030000
END:DAYLIGHT
BEGIN:DAYLIGHT
TZNAME:CEST
TZOFFSETFROM:+0300
TZOFFSETTO:+0200
DTSTART:19450924T030000
RDATE:19470629T030000
END:DAYLIGHT
BEGIN:STANDARD
TZNAME:CET
TZOFFSETFROM:+0100
TZOFFSETTO:+0100
DTSTART:19460101T000000
RDATE:19800101T000000
END:STANDARD
BEGIN:STANDARD
TZNAME:CET
TZOFFSETFROM:+0200
TZOFFSETTO:+0100
DTSTART:19471005T030000
RRULE:FREQ=YEARLY;UNTIL=19491002T010000Z;BYMONTH=10;BYDAY=1SU
END:STANDARD
BEGIN:STANDARD
TZNAME:CET
TZOFFSETFROM:+0200
TZOFFSETTO:+0100
DTSTART:19800928T030000
RRULE:FREQ=YEARLY;UNTIL=19950924T010000Z;BYMONTH=9;BYDAY=-1SU
END:STANDARD
BEGIN:DAYLIGHT
TZNAME:CEST
TZOFFSETFROM:+0100
TZOFFSETTO:+0200
DTSTART:19810329T020000
RRULE:FREQ=YEARLY;BYMONTH=3;BYDAY=-1SU
END:DAYLIGHT
BEGIN:STANDARD
TZNAME:CET
TZOFFSETFROM:+0200
TZOFFSETTO:+0100
DTSTART:19961027T030000
RRULE:FREQ=YEARLY;BYMONTH=10;BYDAY=-1SU
END:STANDARD
END:VTIMEZONE
BEGIN:VEVENT
DTSTAMP:20260424T145655Z
DTSTART;TZID=Europe/Berlin:20230311T183000
DTEND;TZID=Europe/Berlin:20230311T200000
SUMMARY:Regionsliga F Ost MTV Dannenberg II vs MTV Dannenberg (75)
UID:d9a2abe8-65ba-46b4-80ea-d95418901bb9
STATUS:CONFIRMED
LAST-MODIFIED:20230313T115844Z
DESCRIPTION:Regionsliga Frauen Ost\nBegegnungs-Nr: 75\nHeim: MTV Dannenberg II\nGast: MTV Dannenberg\nHalle: Dannenberg\, SH Schulzentrum (604102)\nAdresse: Lindenweg\, 29451 Dannenberg\n
LOCATION:Dannenberg\, SH Schulzentrum (604102): Lindenweg\, 29451 Dannenberg
CATEGORIES:Saison 2022/23
END:VEVENT
BEGIN:VEVENT
DTSTAMP:20260424T145655Z
DTSTART;TZID=Europe/Berlin:20230219T150000
DTEND;TZID=Europe/Berlin:20230219T163000
SUMMARY:Regionsliga F Ost MTV Dannenberg II vs SG Südkreis Clenze II (64)
UID:ebc51d71-b95d-4fc3-9105-4ed6274de117
STATUS:CONFIRMED
LAST-MODIFIED:20230220T110328Z
DESCRIPTION:Regionsliga Frauen Ost\nBegegnungs-Nr: 64\nHeim: MTV Dannenberg II\nGast: SG Südkreis Clenze II\nHalle: Dannenberg\, SH Schulzentrum (604102)\nAdresse: Lindenweg\, 29451 Dannenberg\n
LOCATION:Dannenberg\, SH Schulzentrum (604102): Lindenweg\, 29451 Dannenberg
CATEGORIES:Saison 2022/23
END:VEVENT
BEGIN:VEVENT
DTSTAMP:20260424T145655Z
DTSTART;TZID=Europe/Berlin:20230205T150000
DTEND;TZID=Europe/Berlin:20230205T163000
SUMMARY:Regionsliga F Ost MTV Dannenberg II vs TuS Hohnstorf/Elbe (53)
UID:854b4813-5957-4d39-a812-f1489bf71690
STATUS:CONFIRMED
LAST-MODIFIED:20230206T125251Z
DESCRIPTION:Regionsliga Frauen Ost\nBegegnungs-Nr: 53\nHeim: MTV Dannenberg II\nGast: TuS Hohnstorf/Elbe\nHalle: Dannenberg\, SH Schulzentrum (604102)\nAdresse: Lindenweg\, 29451 Dannenberg\n
LOCATION:Dannenberg\, SH Schulzentrum (604102): Lindenweg\, 29451 Dannenberg
CATEGORIES:Saison 2022/23
END:VEVENT
BEGIN:VEVENT
DTSTAMP:20260424T145655Z
DTSTART;TZID=Europe/Berlin:20221211T150000
DTEND;TZID=Europe/Berlin:20221211T163000
SUMMARY:Regionsliga F Ost MTV Dannenberg II vs SG Bleckede/Neetze (36)
UID:fe1deb1e-bcc8-4f49-bde3-bd279c580fcb
STATUS:CONFIRMED
LAST-MODIFIED:20221213T150436Z
DESCRIPTION:Regionsliga Frauen Ost\nBegegnungs-Nr: 36\nHeim: MTV Dannenberg II\nGast: SG Bleckede/Neetze\nHalle: Dannenberg\, SH Schulzentrum (604102)\nAdresse: Lindenweg\, 29451 Dannenberg\n
LOCATION:Dannenberg\, SH Schulzentrum (604102): Lindenweg\, 29451 Dannenberg
CATEGORIES:Saison 2022/23
END:VEVENT
BEGIN:VEVENT
DTSTAMP:20260424T145655Z
DTSTART;TZID=Europe/Berlin:20230513T163000
DTEND;TZID=Europe/Berlin:20230513T180000
SUMMARY:Regionsliga F Ost MTV Dannenberg II vs TV Uelzen II (35)
UID:ef942799-dbd6-47de-b5a5-20d909746946
STATUS:CONFIRMED
LAST-MODIFIED:20230514T082021Z
DESCRIPTION:Regionsliga Frauen Ost\nBegegnungs-Nr: 35\nHeim: MTV Dannenberg II\nGast: TV Uelzen II\nHalle: Dannenberg\, SH Schulzentrum (604102)\nAdresse: Lindenweg\, 29451 Dannenberg\n
LOCATION:Dannenberg\, SH Schulzentrum (604102): Lindenweg\, 29451 Dannenberg
CATEGORIES:Saison 2022/23
END:VEVENT
BEGIN:VEVENT
DTSTAMP:20260424T145655Z
DTSTART;TZID=Europe/Berlin:20221113T170000
DTEND;TZID=Europe/Berlin:20221113T183000
SUMMARY:Regionsliga F Ost MTV Dannenberg II vs MSG N.E.U. (24)
UID:db44abec-570b-4b3b-81b4-a912bde4b89d
STATUS:CONFIRMED
LAST-MODIFIED:20221114T105241Z
DESCRIPTION:Regionsliga Frauen Ost\nBegegnungs-Nr: 24\nHeim: MTV Dannenberg II\nGast: MSG N.E.U.\nHalle: Dannenberg\, SH Schulzentrum (604102)\nAdresse: Lindenweg\, 29451 Dannenberg\n
LOCATION:Dannenberg\, SH Schulzentrum (604102): Lindenweg\, 29451 Dannenberg
CATEGORIES:Saison 2022/23
END:VEVENT
BEGIN:VEVENT
DTSTAMP:20260424T145655Z
DTSTART;TZID=Europe/Berlin:20230325T163000
DTEND;TZID=Europe/Berlin:20230325T180000
SUMMARY:Regionsliga F Ost MTV Dannenberg II vs TSV Bienenbüttel (13)
UID:e26eca3b-50dc-4a98-bd6c-89f6b0437e45
STATUS:CONFIRMED
LAST-MODIFIED:20230327T162130Z
DESCRIPTION:Regionsliga Frauen Ost\nBegegnungs-Nr: 13\nHeim: MTV Dannenberg II\nGast: TSV Bienenbüttel\nHalle: Dannenberg\, SH Schulzentrum (604102)\nAdresse: Lindenweg\, 29451 Dannenberg\n
LOCATION:Dannenberg\, SH Schulzentrum (604102): Lindenweg\, 29451 Dannenberg
CATEGORIES:Saison 2022/23
END:VEVENT
BEGIN:VEVENT
DTSTAMP:20260424T145655Z
DTSTART;TZID=Europe/Berlin:20220918T150000
DTEND;TZID=Europe/Berlin:20220918T163000
SUMMARY:Regionsliga F Ost MTV Dannenberg II vs TSV Bardowick (2)
UID:f7a4cdfb-3718-4bbd-a2a4-3d56a6c562e1
STATUS:CONFIRMED
LAST-MODIFIED:20220925T184058Z
DESCRIPTION:Regionsliga Frauen Ost\nBegegnungs-Nr: 2\nHeim: MTV Dannenberg II\nGast: TSV Bardowick\nHalle: Dannenberg\, SH Schulzentrum (604102)\nAdresse: Lindenweg\, 29451 Dannenberg\n
LOCATION:Dannenberg\, SH Schulzentrum (604102): Lindenweg\, 29451 Dannenberg
CATEGORIES:Saison 2022/23
END:VEVENT
BEGIN:VEVENT
DTSTAMP:20260424T145655Z
DTSTART;TZID=Europe/Berlin:20230423T150000
DTEND;TZID=Europe/Berlin:20230423T163000
SUMMARY:Regionsliga F Ost MTV Dannenberg II vs SG Adendorf/Scharnebeck II (87)
UID:06bd966d-4fee-4f28-90d7-512b5af2f4f9
STATUS:CONFIRMED
LAST-MODIFIED:20230425T173528Z
DESCRIPTION:Regionsliga Frauen Ost\nBegegnungs-Nr: 87\nHeim: MTV Dannenberg II\nGast: SG Adendorf/Scharnebeck II\nHalle: Dannenberg\, SH Schulzentrum (604102)\nAdresse: Lindenweg\, 29451 Dannenberg\n
LOCATION:Dannenberg\, SH Schulzentrum (604102): Lindenweg\, 29451 Dannenberg
CATEGORIES:Saison 2022/23
END:VEVENT
BEGIN:VEVENT
DTSTAMP:20260424T145655Z
DTSTART;TZID=Europe/Berlin:20230312T150000
DTEND;TZID=Europe/Berlin:20230312T163000
SUMMARY:Regionsliga F Ost SG Bleckede/Neetze vs MTV Dannenberg II (81)
UID:f7158886-afe9-4190-b14d-61039be28a86
STATUS:CONFIRMED
LAST-MODIFIED:20230313T120106Z
DESCRIPTION:Regionsliga Frauen Ost\nBegegnungs-Nr: 81\nHeim: SG Bleckede/Neetze\nGast: MTV Dannenberg II\nHalle: Neetze\, SH (605161)\nAdresse: Von-Estorff-Straße\, 21398 Neetze\n
LOCATION:Neetze\, SH (605161): Von-Estorff-Straße\, 21398 Neetze
CATEGORIES:Saison 2022/23
END:VEVENT
BEGIN:VEVENT
DTSTAMP:20260424T145655Z
DTSTART;TZID=Europe/Berlin:20230318T140000
DTEND;TZID=Europe/Berlin:20230318T153000
SUMMARY:Regionsliga F Ost TV Uelzen II vs MTV Dannenberg II (80)
UID:622d177d-80a1-43ab-b656-33fc3b1a1124
STATUS:CONFIRMED
LAST-MODIFIED:20230319T103611Z
DESCRIPTION:Regionsliga Frauen Ost\nBegegnungs-Nr: 80\nHeim: TV Uelzen II\nGast: MTV Dannenberg II\nHalle: Uelzen\, Herzog-Ernst-Gymnasium (605185)\nAdresse: Greyerstraße\, 29525 Uelzen\n
LOCATION:Uelzen\, Herzog-Ernst-Gymnasium (605185): Greyerstraße\, 29525 Uelzen
CATEGORIES:Saison 2022/23
END:VEVENT
BEGIN:VEVENT
DTSTAMP:20260424T145655Z
DTSTART;TZID=Europe/Berlin:20230305T150000
DTEND;TZID=Europe/Berlin:20230305T163000
SUMMARY:Regionsliga F Ost MSG N.E.U. vs MTV Dannenberg II (69)
UID:acd18cbb-5694-4388-9c05-c3bd1aad29aa
STATUS:CONFIRMED
LAST-MODIFIED:20230309T185241Z
DESCRIPTION:Regionsliga Frauen Ost\nBegegnungs-Nr: 69\nHeim: MSG N.E.U.\nGast: MTV Dannenberg II\nHalle: Wrestedt\, SH (605186)\nAdresse: Am Sportzentrum\, 29559 Wrestedt\n
LOCATION:Wrestedt\, SH (605186): Am Sportzentrum\, 29559 Wrestedt
CATEGORIES:Saison 2022/23
END:VEVENT
BEGIN:VEVENT
DTSTAMP:20260424T145655Z
DTSTART;TZID=Europe/Berlin:20230211T163000
DTEND;TZID=Europe/Berlin:20230211T180000
SUMMARY:Regionsliga F Ost TSV Bienenbüttel vs MTV Dannenberg II (58)
UID:414d812a-aba8-4130-b4b8-9e2506c6c8ea
STATUS:CONFIRMED
LAST-MODIFIED:20230208T134115Z
DESCRIPTION:Regionsliga Frauen Ost\nBegegnungs-Nr: 58\nHeim: TSV Bienenbüttel\nGast: MTV Dannenberg II\nHalle: KGS-Halle Bad Bevensen (605195)\nAdresse: Kurze Bülten\, 29549 Bad Bevensen\n
LOCATION:KGS-Halle Bad Bevensen (605195): Kurze Bülten\, 29549 Bad Bevensen
CATEGORIES:Saison 2022/23
END:VEVENT
BEGIN:VEVENT
DTSTAMP:20260424T145655Z
DTSTART;TZID=Europe/Berlin:20230122T170000
DTEND;TZID=Europe/Berlin:20230122T183000
SUMMARY:Regionsliga F Ost TSV Bardowick vs MTV Dannenberg II (47)
UID:45f3b657-762e-4aff-8361-e5f62e1f553c
STATUS:CONFIRMED
LAST-MODIFIED:20230127T141806Z
DESCRIPTION:Regionsliga Frauen Ost\nBegegnungs-Nr: 47\nHeim: TSV Bardowick\nGast: MTV Dannenberg II\nHalle: Bardowick\, GHS (605105)\nAdresse: Große Worth 4\, 21357 Bardowick\n
LOCATION:Bardowick\, GHS (605105): Große Worth 4\, 21357 Bardowick
CATEGORIES:Saison 2022/23
END:VEVENT
BEGIN:VEVENT
DTSTAMP:20260424T145655Z
DTSTART;TZID=Europe/Berlin:20230114T160000
DTEND;TZID=Europe/Berlin:20230114T173000
SUMMARY:Regionsliga F Ost SG Adendorf/Scharnebeck II vs MTV Dannenberg II (42)
UID:ec222d7e-d509-4093-b6b6-441e7d84c9b2
STATUS:CONFIRMED
LAST-MODIFIED:20230120T154034Z
DESCRIPTION:Regionsliga Frauen Ost\nBegegnungs-Nr: 42\nHeim: SG Adendorf/Scharnebeck II\nGast: MTV Dannenberg II\nHalle: Scharnebeck\, SH Schulzentrum (605169)\nAdresse: Duvenbornsweg\, 21379 Scharnebeck\n
LOCATION:Scharnebeck\, SH Schulzentrum (605169): Duvenbornsweg\, 21379 Scharnebeck
CATEGORIES:Saison 2022/23
END:VEVENT
BEGIN:VEVENT
DTSTAMP:20260424T145655Z
DTSTART;TZID=Europe/Berlin:20230106T181500
DTEND;TZID=Europe/Berlin:20230106T194500
SUMMARY:Regionsliga F Ost MTV Dannenberg vs MTV Dannenberg II (30)
UID:a23b4afc-fad6-4236-b101-6f98595dacca
STATUS:CONFIRMED
LAST-MODIFIED:20230111T111514Z
DESCRIPTION:Regionsliga Frauen Ost\nBegegnungs-Nr: 30\nHeim: MTV Dannenberg\nGast: MTV Dannenberg II\nHalle: Dannenberg\, SH Schulzentrum (604102)\nAdresse: Lindenweg\, 29451 Dannenberg\n
LOCATION:Dannenberg\, SH Schulzentrum (604102): Lindenweg\, 29451 Dannenberg
CATEGORIES:Saison 2022/23
END:VEVENT
BEGIN:VEVENT
DTSTAMP:20260424T145655Z
DTSTART;TZID=Europe/Berlin:20221008T173000
DTEND;TZID=Europe/Berlin:20221008T190000
SUMMARY:Regionsliga F Ost SG Südkreis Clenze II vs MTV Dannenberg II (19)
UID:49c89c7f-8dc1-44da-a2fa-6424e7e09c99
STATUS:CONFIRMED
LAST-MODIFIED:20221009T104829Z
DESCRIPTION:Regionsliga Frauen Ost\nBegegnungs-Nr: 19\nHeim: SG Südkreis Clenze II\nGast: MTV Dannenberg II\nHalle: Clenze\, SH Schulzentrum (604101)\nAdresse: Uelzener Straße 10\, 29459 Clenze\n
LOCATION:Clenze\, SH Schulzentrum (604101): Uelzener Straße 10\, 29459 Clenze
CATEGORIES:Saison 2022/23
END:VEVENT
BEGIN:VEVENT
DTSTAMP:20260424T145655Z
DTSTART;TZID=Europe/Berlin:20220925T150000
DTEND;TZID=Europe/Berlin:20220925T163000
SUMMARY:Regionsliga F Ost TuS Hohnstorf/Elbe vs MTV Dannenberg II (8)
UID:0ecb7626-d7b7-4070-9bc1-da5ad14265cc
STATUS:CONFIRMED
LAST-MODIFIED:20220929T102740Z
DESCRIPTION:Regionsliga Frauen Ost\nBegegnungs-Nr: 8\nHeim: TuS Hohnstorf/Elbe\nGast: MTV Dannenberg II\nHalle: Hohnstorf/Elbe\, SH am Elbdeich (605192)21522 Hohnstorf/Elbe\n
LOCATION:Hohnstorf/Elbe\, SH am Elbdeich (605192): 21522 Hohnstorf/Elbe
CATEGORIES:Saison 2022/23
END:VEVENT
END:VCALENDAR
