BEGIN:VCALENDAR
PRODID:-//nuDatenautomaten//framework iCal4j //DE
VERSION:2.0
CALSCALE:GREGORIAN
BEGIN:VTIMEZONE
TZID:Europe/Berlin
LAST-MODIFIED:20260306T231828Z
TZURL:https://www.tzurl.org/zoneinfo/Europe/Berlin
X-LIC-LOCATION:Europe/Berlin
X-PROLEPTIC-TZNAME:LMT
BEGIN:STANDARD
TZNAME:CET
TZOFFSETFROM:+005328
TZOFFSETTO:+0100
DTSTART:18930401T000000
END:STANDARD
BEGIN:DAYLIGHT
TZNAME:CEST
TZOFFSETFROM:+0100
TZOFFSETTO:+0200
DTSTART:19160430T230000
RDATE:19400401T020000
RDATE:19430329T020000
RDATE:19460414T020000
RDATE:19470406T030000
RDATE:19480418T020000
RDATE:19490410T020000
RDATE:19800406T020000
END:DAYLIGHT
BEGIN:STANDARD
TZNAME:CET
TZOFFSETFROM:+0200
TZOFFSETTO:+0100
DTSTART:19161001T010000
RDATE:19421102T030000
RDATE:19431004T030000
RDATE:19441002T030000
RDATE:19451118T030000
RDATE:19461007T030000
END:STANDARD
BEGIN:DAYLIGHT
TZNAME:CEST
TZOFFSETFROM:+0100
TZOFFSETTO:+0200
DTSTART:19170416T020000
RRULE:FREQ=YEARLY;UNTIL=19180415T010000Z;BYMONTH=4;BYDAY=3MO
END:DAYLIGHT
BEGIN:STANDARD
TZNAME:CET
TZOFFSETFROM:+0200
TZOFFSETTO:+0100
DTSTART:19170917T030000
RRULE:FREQ=YEARLY;UNTIL=19180916T010000Z;BYMONTH=9;BYDAY=3MO
END:STANDARD
BEGIN:DAYLIGHT
TZNAME:CEST
TZOFFSETFROM:+0100
TZOFFSETTO:+0200
DTSTART:19440403T020000
RRULE:FREQ=YEARLY;UNTIL=19450402T010000Z;BYMONTH=4;BYDAY=1MO
END:DAYLIGHT
BEGIN:DAYLIGHT
TZNAME:CEMT
TZOFFSETFROM:+0200
TZOFFSETTO:+0300
DTSTART:19450524T020000
RDATE:19470511T030000
END:DAYLIGHT
BEGIN:DAYLIGHT
TZNAME:CEST
TZOFFSETFROM:+0300
TZOFFSETTO:+0200
DTSTART:19450924T030000
RDATE:19470629T030000
END:DAYLIGHT
BEGIN:STANDARD
TZNAME:CET
TZOFFSETFROM:+0100
TZOFFSETTO:+0100
DTSTART:19460101T000000
RDATE:19800101T000000
END:STANDARD
BEGIN:STANDARD
TZNAME:CET
TZOFFSETFROM:+0200
TZOFFSETTO:+0100
DTSTART:19471005T030000
RRULE:FREQ=YEARLY;UNTIL=19491002T010000Z;BYMONTH=10;BYDAY=1SU
END:STANDARD
BEGIN:STANDARD
TZNAME:CET
TZOFFSETFROM:+0200
TZOFFSETTO:+0100
DTSTART:19800928T030000
RRULE:FREQ=YEARLY;UNTIL=19950924T010000Z;BYMONTH=9;BYDAY=-1SU
END:STANDARD
BEGIN:DAYLIGHT
TZNAME:CEST
TZOFFSETFROM:+0100
TZOFFSETTO:+0200
DTSTART:19810329T020000
RRULE:FREQ=YEARLY;BYMONTH=3;BYDAY=-1SU
END:DAYLIGHT
BEGIN:STANDARD
TZNAME:CET
TZOFFSETFROM:+0200
TZOFFSETTO:+0100
DTSTART:19961027T030000
RRULE:FREQ=YEARLY;BYMONTH=10;BYDAY=-1SU
END:STANDARD
END:VTIMEZONE
BEGIN:VEVENT
DTSTAMP:20260425T230343Z
DTSTART;TZID=Europe/Berlin:20241110T143000
DTEND;TZID=Europe/Berlin:20241110T153000
SUMMARY:Landesliga mJB  SG Achim/Baden vs HSG Bruchhausen-Vilsen (15100027)
UID:7f26434c-cd8b-4cf4-a30b-60164a678c27
STATUS:CONFIRMED
LAST-MODIFIED:20241110T203015Z
DESCRIPTION:Landesliga männliche Jugend B\nBegegnungs-Nr: 15100027\nHeim: SG Achim/Baden\nGast: HSG Bruchhausen-Vilsen\nHalle: Achim\, Gymnasium (609140)\nAdresse: Bergstraße 26\, 28832 Achim\n
LOCATION:Achim\, Gymnasium (609140): Bergstraße 26\, 28832 Achim
CATEGORIES:Saison 2024/25
END:VEVENT
BEGIN:VEVENT
DTSTAMP:20260425T230343Z
DTSTART;TZID=Europe/Berlin:20241123T164500
DTEND;TZID=Europe/Berlin:20241123T174500
SUMMARY:Landesliga mJB  SG Achim/Baden vs HG Jever/Schortens (15100036)
UID:e8e8518c-d96d-4e55-a30e-90cda771c245
STATUS:CONFIRMED
LAST-MODIFIED:20241125T145300Z
DESCRIPTION:Landesliga männliche Jugend B\nBegegnungs-Nr: 15100036\nHeim: SG Achim/Baden\nGast: HG Jever/Schortens\nHalle: Achim\, Gymnasium (609140)\nAdresse: Bergstraße 26\, 28832 Achim\n
LOCATION:Achim\, Gymnasium (609140): Bergstraße 26\, 28832 Achim
CATEGORIES:Saison 2024/25
END:VEVENT
BEGIN:VEVENT
DTSTAMP:20260425T230343Z
DTSTART;TZID=Europe/Berlin:20250215T120000
DTEND;TZID=Europe/Berlin:20250215T130000
SUMMARY:Landesliga mJB  SG Achim/Baden vs HSG Geestland (15100054)
UID:823c8a57-221f-46da-901d-5cc5c1700c78
STATUS:CONFIRMED
LAST-MODIFIED:20250218T164714Z
DESCRIPTION:Landesliga männliche Jugend B\nBegegnungs-Nr: 15100054\nHeim: SG Achim/Baden\nGast: HSG Geestland\nHalle: Achim\, Gymnasium (609140)\nAdresse: Bergstraße 26\, 28832 Achim\n
LOCATION:Achim\, Gymnasium (609140): Bergstraße 26\, 28832 Achim
CATEGORIES:Saison 2024/25
END:VEVENT
BEGIN:VEVENT
DTSTAMP:20260425T230343Z
DTSTART;TZID=Europe/Berlin:20250208T141500
DTEND;TZID=Europe/Berlin:20250208T151500
SUMMARY:Landesliga mJB  SG Achim/Baden vs TSV Altenwalde (15100062)
UID:b9231b41-694d-455b-b171-06d0e83b881d
STATUS:CONFIRMED
LAST-MODIFIED:20250209T131912Z
DESCRIPTION:Landesliga männliche Jugend B\nBegegnungs-Nr: 15100062\nHeim: SG Achim/Baden\nGast: TSV Altenwalde\nHalle: Achim\, Gymnasium (609140)\nAdresse: Bergstraße 26\, 28832 Achim\n
LOCATION:Achim\, Gymnasium (609140): Bergstraße 26\, 28832 Achim
CATEGORIES:Saison 2024/25
END:VEVENT
BEGIN:VEVENT
DTSTAMP:20260425T230343Z
DTSTART;TZID=Europe/Berlin:20250222T141500
DTEND;TZID=Europe/Berlin:20250222T151500
SUMMARY:Landesliga mJB  SG Achim/Baden vs TS Hoykenkamp II (15100065)
UID:6850719e-6539-4a07-93a0-4f08b63ddca6
STATUS:CONFIRMED
LAST-MODIFIED:20250224T101606Z
DESCRIPTION:Landesliga männliche Jugend B\nBegegnungs-Nr: 15100065\nHeim: SG Achim/Baden\nGast: TS Hoykenkamp II\nHalle: Achim\, Gymnasium (609140)\nAdresse: Bergstraße 26\, 28832 Achim\n
LOCATION:Achim\, Gymnasium (609140): Bergstraße 26\, 28832 Achim
CATEGORIES:Saison 2024/25
END:VEVENT
BEGIN:VEVENT
DTSTAMP:20260425T230343Z
DTSTART;TZID=Europe/Berlin:20241214T170000
DTEND;TZID=Europe/Berlin:20241214T180000
SUMMARY:Landesliga mJB  SG Achim/Baden vs JSG TVL/LTS/Spaden (15100076)
UID:08cc01cd-e089-42ca-b719-20694111b1f5
STATUS:CONFIRMED
LAST-MODIFIED:20241215T121606Z
DESCRIPTION:Landesliga männliche Jugend B\nBegegnungs-Nr: 15100076\nHeim: SG Achim/Baden\nGast: JSG TVL/LTS/Spaden\nHalle: Achim\, Gymnasium (609140)\nAdresse: Bergstraße 26\, 28832 Achim\n
LOCATION:Achim\, Gymnasium (609140): Bergstraße 26\, 28832 Achim
CATEGORIES:Saison 2024/25
END:VEVENT
BEGIN:VEVENT
DTSTAMP:20260425T230343Z
DTSTART;TZID=Europe/Berlin:20250427T160000
DTEND;TZID=Europe/Berlin:20250427T170000
SUMMARY:Landesliga mJB  SG Achim/Baden vs SG SV F-fehn./TuS P-fehn (15100089)
UID:e2b471f2-9f43-4b7f-a964-67567aa040ee
STATUS:CONFIRMED
LAST-MODIFIED:20250427T175806Z
DESCRIPTION:Landesliga männliche Jugend B\nBegegnungs-Nr: 15100089\nHeim: SG Achim/Baden\nGast: SG SV F-fehn./TuS P-fehn\nHalle: Achim\, Gymnasium (609140)\nAdresse: Bergstraße 26\, 28832 Achim\n
LOCATION:Achim\, Gymnasium (609140): Bergstraße 26\, 28832 Achim
CATEGORIES:Saison 2024/25
END:VEVENT
BEGIN:VEVENT
DTSTAMP:20260425T230343Z
DTSTART;TZID=Europe/Berlin:20240921T141500
DTEND;TZID=Europe/Berlin:20240921T151500
SUMMARY:Landesliga mJB  SG Achim/Baden vs TuS Komet Arsten (15100009)
UID:d6a800c8-28f8-4081-8f19-76b9767c39e8
STATUS:CONFIRMED
LAST-MODIFIED:20240922T112742Z
DESCRIPTION:Landesliga männliche Jugend B\nBegegnungs-Nr: 15100009\nHeim: SG Achim/Baden\nGast: TuS Komet Arsten\nHalle: Achim\, Gymnasium (609140)\nAdresse: Bergstraße 26\, 28832 Achim\n
LOCATION:Achim\, Gymnasium (609140): Bergstraße 26\, 28832 Achim
CATEGORIES:Saison 2024/25
END:VEVENT
BEGIN:VEVENT
DTSTAMP:20260425T230343Z
DTSTART;TZID=Europe/Berlin:20240907T141500
DTEND;TZID=Europe/Berlin:20240907T151500
SUMMARY:Landesliga mJB  SG Achim/Baden vs TvdH Oldenburg II (15100001)
UID:1332166c-9e67-4ac0-ab5a-5c5f6626218a
STATUS:CONFIRMED
LAST-MODIFIED:20240908T120459Z
DESCRIPTION:Landesliga männliche Jugend B\nBegegnungs-Nr: 15100001\nHeim: SG Achim/Baden\nGast: TvdH Oldenburg II\nHalle: Achim\, Gymnasium (609140)\nAdresse: Bergstraße 26\, 28832 Achim\n
LOCATION:Achim\, Gymnasium (609140): Bergstraße 26\, 28832 Achim
CATEGORIES:Saison 2024/25
END:VEVENT
BEGIN:VEVENT
DTSTAMP:20260425T230343Z
DTSTART;TZID=Europe/Berlin:20241221T140000
DTEND;TZID=Europe/Berlin:20241221T150000
SUMMARY:Landesliga mJB  TS Hoykenkamp II vs SG Achim/Baden (15100022)
UID:7f3e2b61-281f-49ea-943c-7399d8596c18
STATUS:CONFIRMED
LAST-MODIFIED:20241226T065256Z
DESCRIPTION:Landesliga männliche Jugend B\nBegegnungs-Nr: 15100022\nHeim: TS Hoykenkamp II\nGast: SG Achim/Baden\nHalle: Hoykenkamp\, SH Heide I  (813034)\nAdresse: Schulweg\, 27777 Hoykenkamp\n
LOCATION:Hoykenkamp\, SH Heide I  (813034): Schulweg\, 27777 Hoykenkamp
CATEGORIES:Saison 2024/25
END:VEVENT
BEGIN:VEVENT
DTSTAMP:20260425T230343Z
DTSTART;TZID=Europe/Berlin:20250315T183000
DTEND;TZID=Europe/Berlin:20250315T193000
SUMMARY:Landesliga mJB  JSG TVL/LTS/Spaden vs SG Achim/Baden (15100030)
UID:a5f42c27-7516-4912-ba4b-91e4cead5519
STATUS:CONFIRMED
LAST-MODIFIED:20250316T134914Z
DESCRIPTION:Landesliga männliche Jugend B\nBegegnungs-Nr: 15100030\nHeim: JSG TVL/LTS/Spaden\nGast: SG Achim/Baden\nHalle: Bremerhaven-Leherheide\, Hans-Gabrich-Halle (102105)\nAdresse: Kurt-Schumacher-Str. 18\, 27578 Bremerhaven-Leherheide\n
LOCATION:Bremerhaven-Leherheide\, Hans-Gabrich-Halle (102105): Kurt-Schumacher-Str. 18\, 27578 Bremerhaven-Leherheide
CATEGORIES:Saison 2024/25
END:VEVENT
BEGIN:VEVENT
DTSTAMP:20260425T230343Z
DTSTART;TZID=Europe/Berlin:20241207T153000
DTEND;TZID=Europe/Berlin:20241207T163000
SUMMARY:Landesliga mJB  SG SV F-fehn./TuS P-fehn vs SG Achim/Baden (15100043)
UID:2dc3120f-26f2-431c-a8b5-0d81867dd514
STATUS:CONFIRMED
LAST-MODIFIED:20241208T100726Z
DESCRIPTION:Landesliga männliche Jugend B\nBegegnungs-Nr: 15100043\nHeim: SG SV F-fehn./TuS P-fehn\nGast: SG Achim/Baden\nHalle: Bad Zwischenahn-Petersfehn\, SPZ (813057)\nAdresse: Im Schulplacken\, 26160 Bad Zwischenahn (OT Petersfehn)\n
LOCATION:Bad Zwischenahn-Petersfehn\, SPZ (813057): Im Schulplacken\, 26160 Bad Zwischenahn (OT Petersfehn)
CATEGORIES:Saison 2024/25
END:VEVENT
BEGIN:VEVENT
DTSTAMP:20260425T230343Z
DTSTART;TZID=Europe/Berlin:20250323T150000
DTEND;TZID=Europe/Berlin:20250323T160000
SUMMARY:Landesliga mJB  TvdH Oldenburg II vs SG Achim/Baden (15100049)
UID:23cf24e6-23fa-4b3d-910c-4d6302b8f569
STATUS:CONFIRMED
LAST-MODIFIED:20250323T161604Z
DESCRIPTION:Landesliga männliche Jugend B\nBegegnungs-Nr: 15100049\nHeim: TvdH Oldenburg II\nGast: SG Achim/Baden\nHalle: Oldenburg\, SZ-Eversten (813004)\nAdresse: Brandsweg\, 26131 Oldenburg (OT Eversten)\n
LOCATION:Oldenburg\, SZ-Eversten (813004): Brandsweg\, 26131 Oldenburg (OT Eversten)
CATEGORIES:Saison 2024/25
END:VEVENT
BEGIN:VEVENT
DTSTAMP:20260425T230343Z
DTSTART;TZID=Europe/Berlin:20250126T114500
DTEND;TZID=Europe/Berlin:20250126T124500
SUMMARY:Landesliga mJB  TuS Komet Arsten vs SG Achim/Baden (15100057)
UID:9c6e2912-c6c5-4306-a5e7-f3a9d5ea0822
STATUS:CONFIRMED
LAST-MODIFIED:20250126T130744Z
DESCRIPTION:Landesliga männliche Jugend B\nBegegnungs-Nr: 15100057\nHeim: TuS Komet Arsten\nGast: SG Achim/Baden\nHalle: Bremen-Arsten\, Vereinsporthalle TuS Komet Arsten (101103)\nAdresse: Egon-Kähler-Str.145\, 28279 Bremen\n
LOCATION:Bremen-Arsten\, Vereinsporthalle TuS Komet Arsten (101103): Egon-Kähler-Str.145\, 28279 Bremen
CATEGORIES:Saison 2024/25
END:VEVENT
BEGIN:VEVENT
DTSTAMP:20260425T230343Z
DTSTART;TZID=Europe/Berlin:20240928T123000
DTEND;TZID=Europe/Berlin:20240928T133000
SUMMARY:Landesliga mJB  TSV Altenwalde vs SG Achim/Baden (15100014)
UID:76440914-71eb-49c9-aa3f-0be46d018495
STATUS:CONFIRMED
LAST-MODIFIED:20240929T100326Z
DESCRIPTION:Landesliga männliche Jugend B\nBegegnungs-Nr: 15100014\nHeim: TSV Altenwalde\nGast: SG Achim/Baden\nHalle: Cuxhaven\, SH Franzenburg (602139)\nAdresse: Wohlsenstraße 41\, 27478 Cuxhaven (OT Altenwalde)\n
LOCATION:Cuxhaven\, SH Franzenburg (602139): Wohlsenstraße 41\, 27478 Cuxhaven (OT Altenwalde)
CATEGORIES:Saison 2024/25
END:VEVENT
BEGIN:VEVENT
DTSTAMP:20260425T230343Z
DTSTART;TZID=Europe/Berlin:20250308T173000
DTEND;TZID=Europe/Berlin:20250308T183000
SUMMARY:Landesliga mJB  HSG Bruchhausen-Vilsen vs SG Achim/Baden (15100073)
UID:8876a66c-b499-4a98-b581-e63180bd76ef
STATUS:CONFIRMED
LAST-MODIFIED:20250310T113147Z
DESCRIPTION:Landesliga männliche Jugend B\nBegegnungs-Nr: 15100073\nHeim: HSG Bruchhausen-Vilsen\nGast: SG Achim/Baden\nHalle: Bruchhausen-Vilsen\, SH SZ (401115)\nAdresse: Auf der Loge\, 27305 Bruchhausen-Vilsen\n
LOCATION:Bruchhausen-Vilsen\, SH SZ (401115): Auf der Loge\, 27305 Bruchhausen-Vilsen
CATEGORIES:Saison 2024/25
END:VEVENT
BEGIN:VEVENT
DTSTAMP:20260425T230343Z
DTSTART;TZID=Europe/Berlin:20250422T183000
DTEND;TZID=Europe/Berlin:20250422T193000
SUMMARY:Landesliga mJB  HG Jever/Schortens vs SG Achim/Baden (15100083)
UID:3e2d9ad5-8696-440e-b4f0-f30d4e7a1d11
STATUS:CONFIRMED
LAST-MODIFIED:20250425T080920Z
DESCRIPTION:Landesliga männliche Jugend B\nBegegnungs-Nr: 15100083\nHeim: HG Jever/Schortens\nGast: SG Achim/Baden\nHalle: Schortens-Heidmühle\, SZ  (805115)\nAdresse: Beethovenstraße\, 26419 Schortens-Heidmühle\n
LOCATION:Schortens-Heidmühle\, SZ  (805115): Beethovenstraße\, 26419 Schortens-Heidmühle
CATEGORIES:Saison 2024/25
END:VEVENT
BEGIN:VEVENT
DTSTAMP:20260425T230343Z
DTSTART;TZID=Europe/Berlin:20240914T100000
DTEND;TZID=Europe/Berlin:20240914T110000
SUMMARY:Landesliga mJB  HSG Geestland vs SG Achim/Baden (15100005)
UID:6aee1fc6-f3b2-4a4f-9776-83962b10183c
STATUS:CONFIRMED
LAST-MODIFIED:20240915T105417Z
DESCRIPTION:Landesliga männliche Jugend B\nBegegnungs-Nr: 15100005\nHeim: HSG Geestland\nGast: SG Achim/Baden\nHalle: Langen\, SH Schulzentrum (602175)\nAdresse: Nordeschweg\, 27607 Langen\n
LOCATION:Langen\, SH Schulzentrum (602175): Nordeschweg\, 27607 Langen
CATEGORIES:Saison 2024/25
END:VEVENT
END:VCALENDAR
