BEGIN:VCALENDAR
PRODID:-//nuDatenautomaten//framework iCal4j //DE
VERSION:2.0
CALSCALE:GREGORIAN
BEGIN:VTIMEZONE
TZID:Europe/Berlin
LAST-MODIFIED:20260306T231828Z
TZURL:https://www.tzurl.org/zoneinfo/Europe/Berlin
X-LIC-LOCATION:Europe/Berlin
X-PROLEPTIC-TZNAME:LMT
BEGIN:STANDARD
TZNAME:CET
TZOFFSETFROM:+005328
TZOFFSETTO:+0100
DTSTART:18930401T000000
END:STANDARD
BEGIN:DAYLIGHT
TZNAME:CEST
TZOFFSETFROM:+0100
TZOFFSETTO:+0200
DTSTART:19160430T230000
RDATE:19400401T020000
RDATE:19430329T020000
RDATE:19460414T020000
RDATE:19470406T030000
RDATE:19480418T020000
RDATE:19490410T020000
RDATE:19800406T020000
END:DAYLIGHT
BEGIN:STANDARD
TZNAME:CET
TZOFFSETFROM:+0200
TZOFFSETTO:+0100
DTSTART:19161001T010000
RDATE:19421102T030000
RDATE:19431004T030000
RDATE:19441002T030000
RDATE:19451118T030000
RDATE:19461007T030000
END:STANDARD
BEGIN:DAYLIGHT
TZNAME:CEST
TZOFFSETFROM:+0100
TZOFFSETTO:+0200
DTSTART:19170416T020000
RRULE:FREQ=YEARLY;UNTIL=19180415T010000Z;BYMONTH=4;BYDAY=3MO
END:DAYLIGHT
BEGIN:STANDARD
TZNAME:CET
TZOFFSETFROM:+0200
TZOFFSETTO:+0100
DTSTART:19170917T030000
RRULE:FREQ=YEARLY;UNTIL=19180916T010000Z;BYMONTH=9;BYDAY=3MO
END:STANDARD
BEGIN:DAYLIGHT
TZNAME:CEST
TZOFFSETFROM:+0100
TZOFFSETTO:+0200
DTSTART:19440403T020000
RRULE:FREQ=YEARLY;UNTIL=19450402T010000Z;BYMONTH=4;BYDAY=1MO
END:DAYLIGHT
BEGIN:DAYLIGHT
TZNAME:CEMT
TZOFFSETFROM:+0200
TZOFFSETTO:+0300
DTSTART:19450524T020000
RDATE:19470511T030000
END:DAYLIGHT
BEGIN:DAYLIGHT
TZNAME:CEST
TZOFFSETFROM:+0300
TZOFFSETTO:+0200
DTSTART:19450924T030000
RDATE:19470629T030000
END:DAYLIGHT
BEGIN:STANDARD
TZNAME:CET
TZOFFSETFROM:+0100
TZOFFSETTO:+0100
DTSTART:19460101T000000
RDATE:19800101T000000
END:STANDARD
BEGIN:STANDARD
TZNAME:CET
TZOFFSETFROM:+0200
TZOFFSETTO:+0100
DTSTART:19471005T030000
RRULE:FREQ=YEARLY;UNTIL=19491002T010000Z;BYMONTH=10;BYDAY=1SU
END:STANDARD
BEGIN:STANDARD
TZNAME:CET
TZOFFSETFROM:+0200
TZOFFSETTO:+0100
DTSTART:19800928T030000
RRULE:FREQ=YEARLY;UNTIL=19950924T010000Z;BYMONTH=9;BYDAY=-1SU
END:STANDARD
BEGIN:DAYLIGHT
TZNAME:CEST
TZOFFSETFROM:+0100
TZOFFSETTO:+0200
DTSTART:19810329T020000
RRULE:FREQ=YEARLY;BYMONTH=3;BYDAY=-1SU
END:DAYLIGHT
BEGIN:STANDARD
TZNAME:CET
TZOFFSETFROM:+0200
TZOFFSETTO:+0100
DTSTART:19961027T030000
RRULE:FREQ=YEARLY;BYMONTH=10;BYDAY=-1SU
END:STANDARD
END:VTIMEZONE
BEGIN:VEVENT
DTSTAMP:20260424T010609Z
DTSTART;TZID=Europe/Berlin:20241215T140000
DTEND;TZID=Europe/Berlin:20241215T150000
SUMMARY:Landesliga Hannover MJC JSG Söhre-Himmelsthür vs TuS Vinnhorst (43118)
UID:89e0642a-6380-4e23-bad6-f68a4a8a7147
STATUS:CONFIRMED
LAST-MODIFIED:20241222T175734Z
DESCRIPTION:Landesliga Hannover MJC\nBegegnungs-Nr: 43118\nHeim: JSG Söhre-Himmelsthür\nGast: TuS Vinnhorst\nHalle: Diekholzen\, Steinberg-Sporthalle (405108)\nAdresse: Langes Feld\, 31199 Diekholzen\n
LOCATION:Diekholzen\, Steinberg-Sporthalle (405108): Langes Feld\, 31199 Diekholzen
CATEGORIES:Saison 2024/25
END:VEVENT
BEGIN:VEVENT
DTSTAMP:20260424T010609Z
DTSTART;TZID=Europe/Berlin:20240907T150000
DTEND;TZID=Europe/Berlin:20240907T160000
SUMMARY:Landesliga Hannover MJC JSG Söhre-Himmelsthür vs JSG GIW Meerhandball (43102)
UID:05f09869-f8ad-4aec-9e09-45729b507c71
STATUS:CONFIRMED
LAST-MODIFIED:20240907T200557Z
DESCRIPTION:Landesliga Hannover MJC\nBegegnungs-Nr: 43102\nHeim: JSG Söhre-Himmelsthür\nGast: JSG GIW Meerhandball\nHalle: Diekholzen\, Steinberg-Sporthalle (405108)\nAdresse: Langes Feld\, 31199 Diekholzen\n
LOCATION:Diekholzen\, Steinberg-Sporthalle (405108): Langes Feld\, 31199 Diekholzen
CATEGORIES:Saison 2024/25
END:VEVENT
BEGIN:VEVENT
DTSTAMP:20260424T010609Z
DTSTART;TZID=Europe/Berlin:20240928T140000
DTEND;TZID=Europe/Berlin:20240928T150000
SUMMARY:Landesliga Hannover MJC JSG Söhre-Himmelsthür vs TSV Anderten II (43105)
UID:e74b4ad8-f2ff-48ed-ac22-5b4fcdd25878
STATUS:CONFIRMED
LAST-MODIFIED:20240930T135140Z
DESCRIPTION:Landesliga Hannover MJC\nBegegnungs-Nr: 43105\nHeim: JSG Söhre-Himmelsthür\nGast: TSV Anderten II\nHalle: Diekholzen\, Steinberg-Sporthalle (405108)\nAdresse: Langes Feld\, 31199 Diekholzen\n
LOCATION:Diekholzen\, Steinberg-Sporthalle (405108): Langes Feld\, 31199 Diekholzen
CATEGORIES:Saison 2024/25
END:VEVENT
BEGIN:VEVENT
DTSTAMP:20260424T010609Z
DTSTART;TZID=Europe/Berlin:20250511T150000
DTEND;TZID=Europe/Berlin:20250511T160000
SUMMARY:Landesliga Hannover MJC JSG Söhre-Himmelsthür vs SG Börde Handball (43142)
UID:fb99158e-793b-4097-9124-9984ddad4d03
STATUS:CONFIRMED
LAST-MODIFIED:20250512T102341Z
DESCRIPTION:Landesliga Hannover MJC\nBegegnungs-Nr: 43142\nHeim: JSG Söhre-Himmelsthür\nGast: SG Börde Handball\nHalle: Diekholzen\, Steinberg-Sporthalle (405108)\nAdresse: Langes Feld\, 31199 Diekholzen\n
LOCATION:Diekholzen\, Steinberg-Sporthalle (405108): Langes Feld\, 31199 Diekholzen
CATEGORIES:Saison 2024/25
END:VEVENT
BEGIN:VEVENT
DTSTAMP:20260424T010609Z
DTSTART;TZID=Europe/Berlin:20250301T153000
DTEND;TZID=Europe/Berlin:20250301T163000
SUMMARY:Landesliga Hannover MJC JSG Söhre-Himmelsthür vs HSG Deister Süntel (43128)
UID:3e7407ae-3b3f-4191-a009-9e760ad99ead
STATUS:CONFIRMED
LAST-MODIFIED:20250302T154848Z
DESCRIPTION:Landesliga Hannover MJC\nBegegnungs-Nr: 43128\nHeim: JSG Söhre-Himmelsthür\nGast: HSG Deister Süntel\nHalle: Diekholzen\, Steinberg-Sporthalle (405108)\nAdresse: Langes Feld\, 31199 Diekholzen\n
LOCATION:Diekholzen\, Steinberg-Sporthalle (405108): Langes Feld\, 31199 Diekholzen
CATEGORIES:Saison 2024/25
END:VEVENT
BEGIN:VEVENT
DTSTAMP:20260424T010609Z
DTSTART;TZID=Europe/Berlin:20250208T153000
DTEND;TZID=Europe/Berlin:20250208T163000
SUMMARY:Landesliga Hannover MJC JSG Söhre-Himmelsthür vs TS Großburgwedel (43126)
UID:b176c4b4-8543-4070-8008-043f616cdf6d
STATUS:CONFIRMED
LAST-MODIFIED:20250208T204154Z
DESCRIPTION:Landesliga Hannover MJC\nBegegnungs-Nr: 43126\nHeim: JSG Söhre-Himmelsthür\nGast: TS Großburgwedel\nHalle: Diekholzen\, Steinberg-Sporthalle (405108)\nAdresse: Langes Feld\, 31199 Diekholzen\n
LOCATION:Diekholzen\, Steinberg-Sporthalle (405108): Langes Feld\, 31199 Diekholzen
CATEGORIES:Saison 2024/25
END:VEVENT
BEGIN:VEVENT
DTSTAMP:20260424T010609Z
DTSTART;TZID=Europe/Berlin:20250111T133000
DTEND;TZID=Europe/Berlin:20250111T143000
SUMMARY:Landesliga Hannover MJC SG Börde Handball vs JSG Söhre-Himmelsthür (43119)
UID:51feaef0-0262-4188-a60e-d0833039a14a
STATUS:CONFIRMED
LAST-MODIFIED:20250112T183528Z
DESCRIPTION:Landesliga Hannover MJC\nBegegnungs-Nr: 43119\nHeim: SG Börde Handball\nGast: JSG Söhre-Himmelsthür\nHalle: Schellerten\, SH (405109)\nAdresse: Holztrift\, 31174  Schellerten\n
LOCATION:Schellerten\, SH (405109): Holztrift\, 31174  Schellerten
CATEGORIES:Saison 2024/25
END:VEVENT
BEGIN:VEVENT
DTSTAMP:20260424T010609Z
DTSTART;TZID=Europe/Berlin:20241027T140000
DTEND;TZID=Europe/Berlin:20241027T150000
SUMMARY:Landesliga Hannover MJC HSG Deister Süntel vs JSG Söhre-Himmelsthür (43108)
UID:2c6e182a-f8bc-4470-959e-166c82e7caaf
STATUS:CONFIRMED
LAST-MODIFIED:20241028T090417Z
DESCRIPTION:Landesliga Hannover MJC\nBegegnungs-Nr: 43108\nHeim: HSG Deister Süntel\nGast: JSG Söhre-Himmelsthür\nHalle: Springe\, SZ Süd I (403387)\nAdresse: Harmsmühlenstraße\, 31832 Springe\n
LOCATION:Springe\, SZ Süd I (403387): Harmsmühlenstraße\, 31832 Springe
CATEGORIES:Saison 2024/25
END:VEVENT
BEGIN:VEVENT
DTSTAMP:20260424T010609Z
DTSTART;TZID=Europe/Berlin:20240914T140000
DTEND;TZID=Europe/Berlin:20240914T150000
SUMMARY:Landesliga Hannover MJC TS Großburgwedel vs JSG Söhre-Himmelsthür (43103)
UID:b7ed70c1-bea1-46f1-880a-9f810eb42111
STATUS:CONFIRMED
LAST-MODIFIED:20240915T193747Z
DESCRIPTION:Landesliga Hannover MJC\nBegegnungs-Nr: 43103\nHeim: TS Großburgwedel\nGast: JSG Söhre-Himmelsthür\nHalle: Burgwedel\, SZ Auf der Ramhorst (403210)\nAdresse: Auf der Ramhorst\, 30938 Burgwedel (OT Großburgwedel)\n
LOCATION:Burgwedel\, SZ Auf der Ramhorst (403210): Auf der Ramhorst\, 30938 Burgwedel (OT Großburgwedel)
CATEGORIES:Saison 2024/25
END:VEVENT
BEGIN:VEVENT
DTSTAMP:20260424T010609Z
DTSTART;TZID=Europe/Berlin:20250427T113000
DTEND;TZID=Europe/Berlin:20250427T123000
SUMMARY:Landesliga Hannover MJC TuS Vinnhorst vs JSG Söhre-Himmelsthür (43137)
UID:d8301abc-4980-4204-b9ba-016fee512703
STATUS:CONFIRMED
LAST-MODIFIED:20250428T084310Z
DESCRIPTION:Landesliga Hannover MJC\nBegegnungs-Nr: 43137\nHeim: TuS Vinnhorst\nGast: JSG Söhre-Himmelsthür\nHalle: Hannover\, Sportzentrum TuS Vinnhorst (403171)\nAdresse: Grashöfe 27\, 30419 Hannover\n
LOCATION:Hannover\, Sportzentrum TuS Vinnhorst (403171): Grashöfe 27\, 30419 Hannover
CATEGORIES:Saison 2024/25
END:VEVENT
BEGIN:VEVENT
DTSTAMP:20260424T010609Z
DTSTART;TZID=Europe/Berlin:20250215T143000
DTEND;TZID=Europe/Berlin:20250215T153000
SUMMARY:Landesliga Hannover MJC TSV Anderten II vs JSG Söhre-Himmelsthür (43127)
UID:03defabd-f84d-4a87-a4f5-0d45ce95aeba
STATUS:CONFIRMED
LAST-MODIFIED:20250216T033232Z
DESCRIPTION:Landesliga Hannover MJC\nBegegnungs-Nr: 43127\nHeim: TSV Anderten II\nGast: JSG Söhre-Himmelsthür\nHalle: Hannover\, SZ Anderten (403256)\nAdresse: Eisteichweg 6-8\, 30559 Hannover (OT Anderten)\n
LOCATION:Hannover\, SZ Anderten (403256): Eisteichweg 6-8\, 30559 Hannover (OT Anderten)
CATEGORIES:Saison 2024/25
END:VEVENT
BEGIN:VEVENT
DTSTAMP:20260424T010609Z
DTSTART;TZID=Europe/Berlin:20250118T150000
DTEND;TZID=Europe/Berlin:20250118T160000
SUMMARY:Landesliga Hannover MJC JSG GIW Meerhandball vs JSG Söhre-Himmelsthür (43122)
UID:ec789aac-e8ec-46dd-b75f-9881de5ae6c0
STATUS:CONFIRMED
LAST-MODIFIED:20250118T204126Z
DESCRIPTION:Landesliga Hannover MJC\nBegegnungs-Nr: 43122\nHeim: JSG GIW Meerhandball\nGast: JSG Söhre-Himmelsthür\nHalle: Großenheidorn\, SH (403410)\nAdresse: Am Bahnhof 14\, 31515 Wunstorf\n
LOCATION:Großenheidorn\, SH (403410): Am Bahnhof 14\, 31515 Wunstorf
CATEGORIES:Saison 2024/25
END:VEVENT
END:VCALENDAR
