BEGIN:VCALENDAR
PRODID:-//nuDatenautomaten//framework iCal4j //DE
VERSION:2.0
CALSCALE:GREGORIAN
BEGIN:VTIMEZONE
TZID:Europe/Berlin
LAST-MODIFIED:20260306T231828Z
TZURL:https://www.tzurl.org/zoneinfo/Europe/Berlin
X-LIC-LOCATION:Europe/Berlin
X-PROLEPTIC-TZNAME:LMT
BEGIN:STANDARD
TZNAME:CET
TZOFFSETFROM:+005328
TZOFFSETTO:+0100
DTSTART:18930401T000000
END:STANDARD
BEGIN:DAYLIGHT
TZNAME:CEST
TZOFFSETFROM:+0100
TZOFFSETTO:+0200
DTSTART:19160430T230000
RDATE:19400401T020000
RDATE:19430329T020000
RDATE:19460414T020000
RDATE:19470406T030000
RDATE:19480418T020000
RDATE:19490410T020000
RDATE:19800406T020000
END:DAYLIGHT
BEGIN:STANDARD
TZNAME:CET
TZOFFSETFROM:+0200
TZOFFSETTO:+0100
DTSTART:19161001T010000
RDATE:19421102T030000
RDATE:19431004T030000
RDATE:19441002T030000
RDATE:19451118T030000
RDATE:19461007T030000
END:STANDARD
BEGIN:DAYLIGHT
TZNAME:CEST
TZOFFSETFROM:+0100
TZOFFSETTO:+0200
DTSTART:19170416T020000
RRULE:FREQ=YEARLY;UNTIL=19180415T010000Z;BYMONTH=4;BYDAY=3MO
END:DAYLIGHT
BEGIN:STANDARD
TZNAME:CET
TZOFFSETFROM:+0200
TZOFFSETTO:+0100
DTSTART:19170917T030000
RRULE:FREQ=YEARLY;UNTIL=19180916T010000Z;BYMONTH=9;BYDAY=3MO
END:STANDARD
BEGIN:DAYLIGHT
TZNAME:CEST
TZOFFSETFROM:+0100
TZOFFSETTO:+0200
DTSTART:19440403T020000
RRULE:FREQ=YEARLY;UNTIL=19450402T010000Z;BYMONTH=4;BYDAY=1MO
END:DAYLIGHT
BEGIN:DAYLIGHT
TZNAME:CEMT
TZOFFSETFROM:+0200
TZOFFSETTO:+0300
DTSTART:19450524T020000
RDATE:19470511T030000
END:DAYLIGHT
BEGIN:DAYLIGHT
TZNAME:CEST
TZOFFSETFROM:+0300
TZOFFSETTO:+0200
DTSTART:19450924T030000
RDATE:19470629T030000
END:DAYLIGHT
BEGIN:STANDARD
TZNAME:CET
TZOFFSETFROM:+0100
TZOFFSETTO:+0100
DTSTART:19460101T000000
RDATE:19800101T000000
END:STANDARD
BEGIN:STANDARD
TZNAME:CET
TZOFFSETFROM:+0200
TZOFFSETTO:+0100
DTSTART:19471005T030000
RRULE:FREQ=YEARLY;UNTIL=19491002T010000Z;BYMONTH=10;BYDAY=1SU
END:STANDARD
BEGIN:STANDARD
TZNAME:CET
TZOFFSETFROM:+0200
TZOFFSETTO:+0100
DTSTART:19800928T030000
RRULE:FREQ=YEARLY;UNTIL=19950924T010000Z;BYMONTH=9;BYDAY=-1SU
END:STANDARD
BEGIN:DAYLIGHT
TZNAME:CEST
TZOFFSETFROM:+0100
TZOFFSETTO:+0200
DTSTART:19810329T020000
RRULE:FREQ=YEARLY;BYMONTH=3;BYDAY=-1SU
END:DAYLIGHT
BEGIN:STANDARD
TZNAME:CET
TZOFFSETFROM:+0200
TZOFFSETTO:+0100
DTSTART:19961027T030000
RRULE:FREQ=YEARLY;BYMONTH=10;BYDAY=-1SU
END:STANDARD
END:VTIMEZONE
BEGIN:VEVENT
DTSTAMP:20260423T200229Z
DTSTART;TZID=Europe/Berlin:20250511T133000
DTEND;TZID=Europe/Berlin:20250511T143000
SUMMARY:Regionsliga MJD St. 2 JSG Söhre-Himmelsthür II vs TSV Burgdorf II (44372)
UID:e56ba153-a3d7-4ff9-84ad-8ed784e21ef2
STATUS:CONFIRMED
LAST-MODIFIED:20250511T184925Z
DESCRIPTION:Regionsliga MJD St. 2\nBegegnungs-Nr: 44372\nHeim: JSG Söhre-Himmelsthür II\nGast: TSV Burgdorf II\nHalle: Diekholzen\, Steinberg-Sporthalle (405108)\nAdresse: Langes Feld\, 31199 Diekholzen\n
LOCATION:Diekholzen\, Steinberg-Sporthalle (405108): Langes Feld\, 31199 Diekholzen
CATEGORIES:Saison 2024/25
END:VEVENT
BEGIN:VEVENT
DTSTAMP:20260423T200229Z
DTSTART;TZID=Europe/Berlin:20250316T150000
DTEND;TZID=Europe/Berlin:20250316T160000
SUMMARY:Regionsliga MJD St. 2 JSG Söhre-Himmelsthür II vs SV Eintracht Hiddestorf (44358)
UID:9cc2d57d-37dd-4260-9a75-fd69c796c275
STATUS:CONFIRMED
LAST-MODIFIED:20250317T055506Z
DESCRIPTION:Regionsliga MJD St. 2\nBegegnungs-Nr: 44358\nHeim: JSG Söhre-Himmelsthür II\nGast: SV Eintracht Hiddestorf\nHalle: Diekholzen\, Steinberg-Sporthalle (405108)\nAdresse: Langes Feld\, 31199 Diekholzen\n
LOCATION:Diekholzen\, Steinberg-Sporthalle (405108): Langes Feld\, 31199 Diekholzen
CATEGORIES:Saison 2024/25
END:VEVENT
BEGIN:VEVENT
DTSTAMP:20260423T200229Z
DTSTART;TZID=Europe/Berlin:20250323T110000
DTEND;TZID=Europe/Berlin:20250323T120000
SUMMARY:Regionsliga MJD St. 2 JSG Söhre-Himmelsthür II vs TuS Altwarmbüchen (44350)
UID:4a82d911-40f8-4216-8fec-6369aa61d96d
STATUS:CONFIRMED
LAST-MODIFIED:20250321T153828Z
DESCRIPTION:Regionsliga MJD St. 2\nBegegnungs-Nr: 44350\nHeim: JSG Söhre-Himmelsthür II\nGast: TuS Altwarmbüchen\nHalle: Diekholzen\, Steinberg-Sporthalle (405108)\nAdresse: Langes Feld\, 31199 Diekholzen\n
LOCATION:Diekholzen\, Steinberg-Sporthalle (405108): Langes Feld\, 31199 Diekholzen
CATEGORIES:Saison 2024/25
END:VEVENT
BEGIN:VEVENT
DTSTAMP:20260423T200229Z
DTSTART;TZID=Europe/Berlin:20250209T113000
DTEND;TZID=Europe/Berlin:20250209T123000
SUMMARY:Regionsliga MJD St. 2 JSG Söhre-Himmelsthür II vs TS Großburgwedel (44342)
UID:7c05d818-1707-4d8c-9ec8-353a667bc38e
STATUS:CONFIRMED
LAST-MODIFIED:20250210T065143Z
DESCRIPTION:Regionsliga MJD St. 2\nBegegnungs-Nr: 44342\nHeim: JSG Söhre-Himmelsthür II\nGast: TS Großburgwedel\nHalle: Diekholzen\, Steinberg-Sporthalle (405108)\nAdresse: Langes Feld\, 31199 Diekholzen\n
LOCATION:Diekholzen\, Steinberg-Sporthalle (405108): Langes Feld\, 31199 Diekholzen
CATEGORIES:Saison 2024/25
END:VEVENT
BEGIN:VEVENT
DTSTAMP:20260423T200229Z
DTSTART;TZID=Europe/Berlin:20241208T093000
DTEND;TZID=Europe/Berlin:20241208T103000
SUMMARY:Regionsliga MJD St. 2 JSG Söhre-Himmelsthür II vs MTV Elze (44329)
UID:78fbc496-a44e-4d3d-8594-a7eeeace78a7
STATUS:CONFIRMED
LAST-MODIFIED:20241209T054716Z
DESCRIPTION:Regionsliga MJD St. 2\nBegegnungs-Nr: 44329\nHeim: JSG Söhre-Himmelsthür II\nGast: MTV Elze\nHalle: Diekholzen\, Steinberg-Sporthalle (405108)\nAdresse: Langes Feld\, 31199 Diekholzen\n
LOCATION:Diekholzen\, Steinberg-Sporthalle (405108): Langes Feld\, 31199 Diekholzen
CATEGORIES:Saison 2024/25
END:VEVENT
BEGIN:VEVENT
DTSTAMP:20260423T200229Z
DTSTART;TZID=Europe/Berlin:20241109T140000
DTEND;TZID=Europe/Berlin:20241109T150000
SUMMARY:Regionsliga MJD St. 2 JSG Söhre-Himmelsthür II vs JSG Söhre-Himmelsthür (44316)
UID:424b542a-7e59-4896-ae06-1e7324c7ff9b
STATUS:CONFIRMED
LAST-MODIFIED:20241111T052338Z
DESCRIPTION:Regionsliga MJD St. 2\nBegegnungs-Nr: 44316\nHeim: JSG Söhre-Himmelsthür II\nGast: JSG Söhre-Himmelsthür\nHalle: Diekholzen\, Steinberg-Sporthalle (405108)\nAdresse: Langes Feld\, 31199 Diekholzen\n
LOCATION:Diekholzen\, Steinberg-Sporthalle (405108): Langes Feld\, 31199 Diekholzen
CATEGORIES:Saison 2024/25
END:VEVENT
BEGIN:VEVENT
DTSTAMP:20260423T200229Z
DTSTART;TZID=Europe/Berlin:20241123T140000
DTEND;TZID=Europe/Berlin:20241123T150000
SUMMARY:Regionsliga MJD St. 2 JSG Söhre-Himmelsthür II vs HSG Laatzen-Rethen (44324)
UID:1e5db495-ec08-4857-87fd-9edde3d41301
STATUS:CONFIRMED
LAST-MODIFIED:20241124T063152Z
DESCRIPTION:Regionsliga MJD St. 2\nBegegnungs-Nr: 44324\nHeim: JSG Söhre-Himmelsthür II\nGast: HSG Laatzen-Rethen\nHalle: Diekholzen\, Steinberg-Sporthalle (405108)\nAdresse: Langes Feld\, 31199 Diekholzen\n
LOCATION:Diekholzen\, Steinberg-Sporthalle (405108): Langes Feld\, 31199 Diekholzen
CATEGORIES:Saison 2024/25
END:VEVENT
BEGIN:VEVENT
DTSTAMP:20260423T200229Z
DTSTART;TZID=Europe/Berlin:20250111T130000
DTEND;TZID=Europe/Berlin:20250111T140000
SUMMARY:Regionsliga MJD St. 2 TSV Burgdorf II vs JSG Söhre-Himmelsthür II (44333)
UID:5eb19805-cbc6-405c-85b4-06534d113543
STATUS:CONFIRMED
LAST-MODIFIED:20250112T085744Z
DESCRIPTION:Regionsliga MJD St. 2\nBegegnungs-Nr: 44333\nHeim: TSV Burgdorf II\nGast: JSG Söhre-Himmelsthür II\nHalle: Burgdorf\, Rudolf-Bembenneck-Gesamtschule (403208)\nAdresse: Vor dem Celler Tor 50\, 31303 Burgdorf\n
LOCATION:Burgdorf\, Rudolf-Bembenneck-Gesamtschule (403208): Vor dem Celler Tor 50\, 31303 Burgdorf
CATEGORIES:Saison 2024/25
END:VEVENT
BEGIN:VEVENT
DTSTAMP:20260423T200229Z
DTSTART;TZID=Europe/Berlin:20250329T140000
DTEND;TZID=Europe/Berlin:20250329T150000
SUMMARY:Regionsliga MJD St. 2 MTV Elze vs JSG Söhre-Himmelsthür II (44366)
UID:cab29308-93c0-4662-bf82-43273d6d9a78
STATUS:CONFIRMED
LAST-MODIFIED:20250330T054847Z
DESCRIPTION:Regionsliga MJD St. 2\nBegegnungs-Nr: 44366\nHeim: MTV Elze\nGast: JSG Söhre-Himmelsthür II\nHalle: Elze\, SH (405121)\nAdresse: Sehlder Straße 20\, 31008 Elze / Leine\n
LOCATION:Elze\, SH (405121): Sehlder Straße 20\, 31008 Elze / Leine
CATEGORIES:Saison 2024/25
END:VEVENT
BEGIN:VEVENT
DTSTAMP:20260423T200229Z
DTSTART;TZID=Europe/Berlin:20250308T140000
DTEND;TZID=Europe/Berlin:20250308T150000
SUMMARY:Regionsliga MJD St. 2 JSG Söhre-Himmelsthür vs JSG Söhre-Himmelsthür II (44354)
UID:25f5a9b9-38a9-4d95-992c-855888448564
STATUS:CONFIRMED
LAST-MODIFIED:20250320T125245Z
DESCRIPTION:Regionsliga MJD St. 2\nBegegnungs-Nr: 44354\nHeim: JSG Söhre-Himmelsthür\nGast: JSG Söhre-Himmelsthür II\nHalle: Diekholzen\, Steinberg-Sporthalle (405108)\nAdresse: Langes Feld\, 31199 Diekholzen\n
LOCATION:Diekholzen\, Steinberg-Sporthalle (405108): Langes Feld\, 31199 Diekholzen
CATEGORIES:Saison 2024/25
END:VEVENT
BEGIN:VEVENT
DTSTAMP:20260423T200229Z
DTSTART;TZID=Europe/Berlin:20250215T150000
DTEND;TZID=Europe/Berlin:20250215T160000
SUMMARY:Regionsliga MJD St. 2 HSG Laatzen-Rethen vs JSG Söhre-Himmelsthür II (44346)
UID:b9c89e87-a5ee-4b84-a61f-6a096e69e387
STATUS:CONFIRMED
LAST-MODIFIED:20250216T044441Z
DESCRIPTION:Regionsliga MJD St. 2\nBegegnungs-Nr: 44346\nHeim: HSG Laatzen-Rethen\nGast: JSG Söhre-Himmelsthür II\nHalle: Laatzen\, Sporthalle Rethen (403314)\nAdresse: Braunschweiger Straße\, 30880 Laatzen (OT Rethen)\n
LOCATION:Laatzen\, Sporthalle Rethen (403314): Braunschweiger Straße\, 30880 Laatzen (OT Rethen)
CATEGORIES:Saison 2024/25
END:VEVENT
BEGIN:VEVENT
DTSTAMP:20260423T200229Z
DTSTART;TZID=Europe/Berlin:20241117T142000
DTEND;TZID=Europe/Berlin:20241117T152000
SUMMARY:Regionsliga MJD St. 2 SV Eintracht Hiddestorf vs JSG Söhre-Himmelsthür II (44322)
UID:12b12f04-a029-4c01-87ea-4981cb4c5066
STATUS:CONFIRMED
LAST-MODIFIED:20241118T050918Z
DESCRIPTION:Regionsliga MJD St. 2\nBegegnungs-Nr: 44322\nHeim: SV Eintracht Hiddestorf\nGast: JSG Söhre-Himmelsthür II\nHalle: Hemmingen\, KGS (403290)\nAdresse: Hohe Bünte 4\, 30966 Hemmingen\n
LOCATION:Hemmingen\, KGS (403290): Hohe Bünte 4\, 30966 Hemmingen
CATEGORIES:Saison 2024/25
END:VEVENT
BEGIN:VEVENT
DTSTAMP:20260423T200229Z
DTSTART;TZID=Europe/Berlin:20241027T110000
DTEND;TZID=Europe/Berlin:20241027T120000
SUMMARY:Regionsliga MJD St. 2 TuS Altwarmbüchen vs JSG Söhre-Himmelsthür II (44314)
UID:a9bb5916-248a-407b-a990-23bab30428b9
STATUS:CONFIRMED
LAST-MODIFIED:20241028T080055Z
DESCRIPTION:Regionsliga MJD St. 2\nBegegnungs-Nr: 44314\nHeim: TuS Altwarmbüchen\nGast: JSG Söhre-Himmelsthür II\nHalle: Isernhagen\, SZ Altwarmbüchen (403300)\nAdresse: Helleweg\, 30916 Isernhagen (OT Altwarmbüchen)\n
LOCATION:Isernhagen\, SZ Altwarmbüchen (403300): Helleweg\, 30916 Isernhagen (OT Altwarmbüchen)
CATEGORIES:Saison 2024/25
END:VEVENT
BEGIN:VEVENT
DTSTAMP:20260423T200229Z
DTSTART;TZID=Europe/Berlin:20240915T150000
DTEND;TZID=Europe/Berlin:20240915T160000
SUMMARY:Regionsliga MJD St. 2 TS Großburgwedel vs JSG Söhre-Himmelsthür II (44307)
UID:66fe6276-c43f-4ceb-9f0b-de2aa576c7ab
STATUS:CONFIRMED
LAST-MODIFIED:20240915T164212Z
DESCRIPTION:Regionsliga MJD St. 2\nBegegnungs-Nr: 44307\nHeim: TS Großburgwedel\nGast: JSG Söhre-Himmelsthür II\nHalle: Burgwedel\, SZ Auf der Ramhorst (403210)\nAdresse: Auf der Ramhorst\, 30938 Burgwedel (OT Großburgwedel)\n
LOCATION:Burgwedel\, SZ Auf der Ramhorst (403210): Auf der Ramhorst\, 30938 Burgwedel (OT Großburgwedel)
CATEGORIES:Saison 2024/25
END:VEVENT
END:VCALENDAR
