BEGIN:VCALENDAR
PRODID:-//nuDatenautomaten//framework iCal4j //DE
VERSION:2.0
CALSCALE:GREGORIAN
BEGIN:VTIMEZONE
TZID:Europe/Berlin
LAST-MODIFIED:20260306T231828Z
TZURL:https://www.tzurl.org/zoneinfo/Europe/Berlin
X-LIC-LOCATION:Europe/Berlin
X-PROLEPTIC-TZNAME:LMT
BEGIN:STANDARD
TZNAME:CET
TZOFFSETFROM:+005328
TZOFFSETTO:+0100
DTSTART:18930401T000000
END:STANDARD
BEGIN:DAYLIGHT
TZNAME:CEST
TZOFFSETFROM:+0100
TZOFFSETTO:+0200
DTSTART:19160430T230000
RDATE:19400401T020000
RDATE:19430329T020000
RDATE:19460414T020000
RDATE:19470406T030000
RDATE:19480418T020000
RDATE:19490410T020000
RDATE:19800406T020000
END:DAYLIGHT
BEGIN:STANDARD
TZNAME:CET
TZOFFSETFROM:+0200
TZOFFSETTO:+0100
DTSTART:19161001T010000
RDATE:19421102T030000
RDATE:19431004T030000
RDATE:19441002T030000
RDATE:19451118T030000
RDATE:19461007T030000
END:STANDARD
BEGIN:DAYLIGHT
TZNAME:CEST
TZOFFSETFROM:+0100
TZOFFSETTO:+0200
DTSTART:19170416T020000
RRULE:FREQ=YEARLY;UNTIL=19180415T010000Z;BYMONTH=4;BYDAY=3MO
END:DAYLIGHT
BEGIN:STANDARD
TZNAME:CET
TZOFFSETFROM:+0200
TZOFFSETTO:+0100
DTSTART:19170917T030000
RRULE:FREQ=YEARLY;UNTIL=19180916T010000Z;BYMONTH=9;BYDAY=3MO
END:STANDARD
BEGIN:DAYLIGHT
TZNAME:CEST
TZOFFSETFROM:+0100
TZOFFSETTO:+0200
DTSTART:19440403T020000
RRULE:FREQ=YEARLY;UNTIL=19450402T010000Z;BYMONTH=4;BYDAY=1MO
END:DAYLIGHT
BEGIN:DAYLIGHT
TZNAME:CEMT
TZOFFSETFROM:+0200
TZOFFSETTO:+0300
DTSTART:19450524T020000
RDATE:19470511T030000
END:DAYLIGHT
BEGIN:DAYLIGHT
TZNAME:CEST
TZOFFSETFROM:+0300
TZOFFSETTO:+0200
DTSTART:19450924T030000
RDATE:19470629T030000
END:DAYLIGHT
BEGIN:STANDARD
TZNAME:CET
TZOFFSETFROM:+0100
TZOFFSETTO:+0100
DTSTART:19460101T000000
RDATE:19800101T000000
END:STANDARD
BEGIN:STANDARD
TZNAME:CET
TZOFFSETFROM:+0200
TZOFFSETTO:+0100
DTSTART:19471005T030000
RRULE:FREQ=YEARLY;UNTIL=19491002T010000Z;BYMONTH=10;BYDAY=1SU
END:STANDARD
BEGIN:STANDARD
TZNAME:CET
TZOFFSETFROM:+0200
TZOFFSETTO:+0100
DTSTART:19800928T030000
RRULE:FREQ=YEARLY;UNTIL=19950924T010000Z;BYMONTH=9;BYDAY=-1SU
END:STANDARD
BEGIN:DAYLIGHT
TZNAME:CEST
TZOFFSETFROM:+0100
TZOFFSETTO:+0200
DTSTART:19810329T020000
RRULE:FREQ=YEARLY;BYMONTH=3;BYDAY=-1SU
END:DAYLIGHT
BEGIN:STANDARD
TZNAME:CET
TZOFFSETFROM:+0200
TZOFFSETTO:+0100
DTSTART:19961027T030000
RRULE:FREQ=YEARLY;BYMONTH=10;BYDAY=-1SU
END:STANDARD
END:VTIMEZONE
BEGIN:VEVENT
DTSTAMP:20260424T150622Z
DTSTART;TZID=Europe/Berlin:20251116T140000
DTEND;TZID=Europe/Berlin:20251116T153000
SUMMARY:Regionsliga Frauen Süd MSG Hermannsburg/Bergen III vs HSG Lohheide (20)
UID:c734cee6-2572-4065-9bfa-41799300adf2
STATUS:CONFIRMED
LAST-MODIFIED:20251117T111011Z
DESCRIPTION:Regionsliga Frauen Süd\nBegegnungs-Nr: 20\nHeim: MSG Hermannsburg/Bergen III\nGast: HSG Lohheide\nHalle: Hermannsburg\, SH Oertzetal (601134)\nAdresse: Lutterweg\, 29320 Hermannsburg\n
LOCATION:Hermannsburg\, SH Oertzetal (601134): Lutterweg\, 29320 Hermannsburg
CATEGORIES:Saison 2025/26
END:VEVENT
BEGIN:VEVENT
DTSTAMP:20260424T150622Z
DTSTART;TZID=Europe/Berlin:20251130T140000
DTEND;TZID=Europe/Berlin:20251130T153000
SUMMARY:Regionsliga Frauen Süd MSG Hermannsburg/Bergen III vs TuS Brockel (11)
UID:2745ddfa-12fb-40a4-8e37-722f61387fc5
STATUS:CONFIRMED
LAST-MODIFIED:20251130T190954Z
DESCRIPTION:Regionsliga Frauen Süd\nBegegnungs-Nr: 11\nHeim: MSG Hermannsburg/Bergen III\nGast: TuS Brockel\nHalle: Bergen\, Am Heisterkamp (601106)\nAdresse: Karlsruher Str. 1\, 29303 Bergen\n
LOCATION:Bergen\, Am Heisterkamp (601106): Karlsruher Str. 1\, 29303 Bergen
CATEGORIES:Saison 2025/26
END:VEVENT
BEGIN:VEVENT
DTSTAMP:20260424T150622Z
DTSTART;TZID=Europe/Berlin:20260426T160000
DTEND;TZID=Europe/Berlin:20260426T173000
SUMMARY:Regionsliga Frauen Süd MSG Hermannsburg/Bergen III vs MTV Schwarmstedt (69)
UID:c88b19f7-9704-4d96-ab2c-e4141e0f8007
STATUS:CONFIRMED
DESCRIPTION:Regionsliga Frauen Süd\nBegegnungs-Nr: 69\nHeim: MSG Hermannsburg/Bergen III\nGast: MTV Schwarmstedt\nHalle: Bergen\, Am Heisterkamp (601106)\nAdresse: Karlsruher Str. 1\, 29303 Bergen\n
LOCATION:Bergen\, Am Heisterkamp (601106): Karlsruher Str. 1\, 29303 Bergen
CATEGORIES:Saison 2025/26
END:VEVENT
BEGIN:VEVENT
DTSTAMP:20260424T150622Z
DTSTART;TZID=Europe/Berlin:20260315T140000
DTEND;TZID=Europe/Berlin:20260315T153000
SUMMARY:Regionsliga Frauen Süd MSG Hermannsburg/Bergen III vs TV Jahn Schneverdingen (60)
UID:a2634945-e6f9-4cfc-9804-ba38576a43aa
STATUS:CONFIRMED
LAST-MODIFIED:20260316T100626Z
DESCRIPTION:Regionsliga Frauen Süd\nBegegnungs-Nr: 60\nHeim: MSG Hermannsburg/Bergen III\nGast: TV Jahn Schneverdingen\nHalle: Bergen\, Am Heisterkamp (601106)\nAdresse: Karlsruher Str. 1\, 29303 Bergen\n
LOCATION:Bergen\, Am Heisterkamp (601106): Karlsruher Str. 1\, 29303 Bergen
CATEGORIES:Saison 2025/26
END:VEVENT
BEGIN:VEVENT
DTSTAMP:20260424T150622Z
DTSTART;TZID=Europe/Berlin:20260222T160000
DTEND;TZID=Europe/Berlin:20260222T173000
SUMMARY:Regionsliga Frauen Süd MSG Hermannsburg/Bergen III vs TSV Wietzendorf II (51)
UID:00c62134-542c-499c-b8ac-38c5c03c9e14
STATUS:CONFIRMED
LAST-MODIFIED:20260223T111030Z
DESCRIPTION:Regionsliga Frauen Süd\nBegegnungs-Nr: 51\nHeim: MSG Hermannsburg/Bergen III\nGast: TSV Wietzendorf II\nHalle: Hermannsburg\, SH Oertzetal (601134)\nAdresse: Lutterweg\, 29320 Hermannsburg\n
LOCATION:Hermannsburg\, SH Oertzetal (601134): Lutterweg\, 29320 Hermannsburg
CATEGORIES:Saison 2025/26
END:VEVENT
BEGIN:VEVENT
DTSTAMP:20260424T150622Z
DTSTART;TZID=Europe/Berlin:20251102T160000
DTEND;TZID=Europe/Berlin:20251102T173000
SUMMARY:Regionsliga Frauen Süd MSG Hermannsburg/Bergen III vs VfL Westercelle (2)
UID:85f296c7-3d91-466a-9b5b-06d9129b2d72
STATUS:CONFIRMED
LAST-MODIFIED:20251106T094254Z
DESCRIPTION:Regionsliga Frauen Süd\nBegegnungs-Nr: 2\nHeim: MSG Hermannsburg/Bergen III\nGast: VfL Westercelle\nHalle: Bergen\, Am Heisterkamp (601106)\nAdresse: Karlsruher Str. 1\, 29303 Bergen\n
LOCATION:Bergen\, Am Heisterkamp (601106): Karlsruher Str. 1\, 29303 Bergen
CATEGORIES:Saison 2025/26
END:VEVENT
BEGIN:VEVENT
DTSTAMP:20260424T150622Z
DTSTART;TZID=Europe/Berlin:20260125T170000
DTEND;TZID=Europe/Berlin:20260125T183000
SUMMARY:Regionsliga Frauen Süd MSG Hermannsburg/Bergen III vs TuS Eschede (42)
UID:08a8d619-24da-4692-9ba5-e6f66019ade5
STATUS:CONFIRMED
LAST-MODIFIED:20260125T182515Z
DESCRIPTION:Regionsliga Frauen Süd\nBegegnungs-Nr: 42\nHeim: MSG Hermannsburg/Bergen III\nGast: TuS Eschede\nHalle: Hermannsburg\, SH Oertzetal (601134)\nAdresse: Lutterweg\, 29320 Hermannsburg\n
LOCATION:Hermannsburg\, SH Oertzetal (601134): Lutterweg\, 29320 Hermannsburg
CATEGORIES:Saison 2025/26
END:VEVENT
BEGIN:VEVENT
DTSTAMP:20260424T150622Z
DTSTART;TZID=Europe/Berlin:20251214T150000
DTEND;TZID=Europe/Berlin:20251214T163000
SUMMARY:Regionsliga Frauen Süd MSG Hermannsburg/Bergen III vs TuS Hohne-Spechtshorn (29)
UID:692148a2-6071-416b-add4-ba9868780c9f
STATUS:CONFIRMED
LAST-MODIFIED:20251214T193816Z
DESCRIPTION:Regionsliga Frauen Süd\nBegegnungs-Nr: 29\nHeim: MSG Hermannsburg/Bergen III\nGast: TuS Hohne-Spechtshorn\nHalle: Bergen\, Am Heisterkamp (601106)\nAdresse: Karlsruher Str. 1\, 29303 Bergen\n
LOCATION:Bergen\, Am Heisterkamp (601106): Karlsruher Str. 1\, 29303 Bergen
CATEGORIES:Saison 2025/26
END:VEVENT
BEGIN:VEVENT
DTSTAMP:20260424T150622Z
DTSTART;TZID=Europe/Berlin:20251109T180000
DTEND;TZID=Europe/Berlin:20251109T193000
SUMMARY:Regionsliga Frauen Süd TSV Wietzendorf II vs MSG Hermannsburg/Bergen III (15)
UID:bdb6c5df-157b-44c5-88c7-2beb7e4585f9
STATUS:CONFIRMED
LAST-MODIFIED:20251114T120322Z
DESCRIPTION:Regionsliga Frauen Süd\nBegegnungs-Nr: 15\nHeim: TSV Wietzendorf II\nGast: MSG Hermannsburg/Bergen III\nHalle: Wietzendorf\, SH (607116)\nAdresse: Kampstraße\, 29649 Wietzendorf\n
LOCATION:Wietzendorf\, SH (607116): Kampstraße\, 29649 Wietzendorf
CATEGORIES:Saison 2025/26
END:VEVENT
BEGIN:VEVENT
DTSTAMP:20260424T150622Z
DTSTART;TZID=Europe/Berlin:20250921T180000
DTEND;TZID=Europe/Berlin:20250921T193000
SUMMARY:Regionsliga Frauen Süd TuS Eschede vs MSG Hermannsburg/Bergen III (6)
UID:07d93dfb-3a9f-42a4-aad2-ea5ef3370b0e
STATUS:CONFIRMED
LAST-MODIFIED:20250929T144928Z
DESCRIPTION:Regionsliga Frauen Süd\nBegegnungs-Nr: 6\nHeim: TuS Eschede\nGast: MSG Hermannsburg/Bergen III\nHalle: Eschede\, SH (601125)\nAdresse: Rebberlaher Straße\, 29348 Eschede\n
LOCATION:Eschede\, SH (601125): Rebberlaher Straße\, 29348 Eschede
CATEGORIES:Saison 2025/26
END:VEVENT
BEGIN:VEVENT
DTSTAMP:20260424T150622Z
DTSTART;TZID=Europe/Berlin:20260418T170000
DTEND;TZID=Europe/Berlin:20260418T183000
SUMMARY:Regionsliga Frauen Süd TuS Hohne-Spechtshorn vs MSG Hermannsburg/Bergen III (65)
UID:81d2cc38-1713-4f5d-9ed4-aacd7f1dd39a
STATUS:CONFIRMED
LAST-MODIFIED:20260419T121124Z
DESCRIPTION:Regionsliga Frauen Süd\nBegegnungs-Nr: 65\nHeim: TuS Hohne-Spechtshorn\nGast: MSG Hermannsburg/Bergen III\nHalle: Lachendorf\, RS (601142)\nAdresse: Südfeld\, 29331 Lachendorf\n
LOCATION:Lachendorf\, RS (601142): Südfeld\, 29331 Lachendorf
CATEGORIES:Saison 2025/26
END:VEVENT
BEGIN:VEVENT
DTSTAMP:20260424T150622Z
DTSTART;TZID=Europe/Berlin:20260228T170000
DTEND;TZID=Europe/Berlin:20260228T183000
SUMMARY:Regionsliga Frauen Süd HSG Lohheide vs MSG Hermannsburg/Bergen III (56)
UID:23ce8e3a-c02b-4d5e-b46f-c5d8c345c9eb
STATUS:CONFIRMED
LAST-MODIFIED:20260301T081829Z
DESCRIPTION:Regionsliga Frauen Süd\nBegegnungs-Nr: 56\nHeim: HSG Lohheide\nGast: MSG Hermannsburg/Bergen III\nHalle: Bomlitz\, SH Schulzentrum (607102)\nAdresse: Am Hoop 15\, 29699 Bomlitz\n
LOCATION:Bomlitz\, SH Schulzentrum (607102): Am Hoop 15\, 29699 Bomlitz
CATEGORIES:Saison 2025/26
END:VEVENT
BEGIN:VEVENT
DTSTAMP:20260424T150622Z
DTSTART;TZID=Europe/Berlin:20260215T153000
DTEND;TZID=Europe/Berlin:20260215T170000
SUMMARY:Regionsliga Frauen Süd TuS Brockel vs MSG Hermannsburg/Bergen III (47)
UID:055e7fd8-62bf-4735-a3ed-9f11b42bb832
STATUS:CONFIRMED
LAST-MODIFIED:20260216T120708Z
DESCRIPTION:Regionsliga Frauen Süd\nBegegnungs-Nr: 47\nHeim: TuS Brockel\nGast: MSG Hermannsburg/Bergen III\nHalle: Brockel\, SH Grundschule  (609103)\nAdresse: Am Sportplatz\, 27386 Brockel\n
LOCATION:Brockel\, SH Grundschule  (609103): Am Sportplatz\, 27386 Brockel
CATEGORIES:Saison 2025/26
END:VEVENT
BEGIN:VEVENT
DTSTAMP:20260424T150622Z
DTSTART;TZID=Europe/Berlin:20260117T190000
DTEND;TZID=Europe/Berlin:20260117T203000
SUMMARY:Regionsliga Frauen Süd VfL Westercelle vs MSG Hermannsburg/Bergen III (38)
UID:cabac0d1-2715-4fb3-a931-1ee240525798
STATUS:CONFIRMED
LAST-MODIFIED:20260118T151105Z
DESCRIPTION:Regionsliga Frauen Süd\nBegegnungs-Nr: 38\nHeim: VfL Westercelle\nGast: MSG Hermannsburg/Bergen III\nHalle: Celle\, Hölty-Gymnasium (601117)\nAdresse: Welfenallee\, 29225 Celle (OT Neustadt)\n
LOCATION:Celle\, Hölty-Gymnasium (601117): Welfenallee\, 29225 Celle (OT Neustadt)
CATEGORIES:Saison 2025/26
END:VEVENT
BEGIN:VEVENT
DTSTAMP:20260424T150622Z
DTSTART;TZID=Europe/Berlin:20260205T200000
DTEND;TZID=Europe/Berlin:20260205T213000
SUMMARY:Regionsliga Frauen Süd MTV Schwarmstedt vs MSG Hermannsburg/Bergen III (33)
UID:581367d3-9038-48b0-ad8f-42c305622747
STATUS:CONFIRMED
LAST-MODIFIED:20260206T092602Z
DESCRIPTION:Regionsliga Frauen Süd\nBegegnungs-Nr: 33\nHeim: MTV Schwarmstedt\nGast: MSG Hermannsburg/Bergen III\nHalle: Schwarmstedt\, Wilhelm-Röpke-Schule (607111)\nAdresse: Am Schloonberg 9\, 29690 Schwarmstedt\n
LOCATION:Schwarmstedt\, Wilhelm-Röpke-Schule (607111): Am Schloonberg 9\, 29690 Schwarmstedt
CATEGORIES:Saison 2025/26
END:VEVENT
BEGIN:VEVENT
DTSTAMP:20260424T150622Z
DTSTART;TZID=Europe/Berlin:20251122T170000
DTEND;TZID=Europe/Berlin:20251122T183000
SUMMARY:Regionsliga Frauen Süd TV Jahn Schneverdingen vs MSG Hermannsburg/Bergen III (24)
UID:422e9d99-de86-4193-a023-9d5617bf692f
STATUS:CONFIRMED
LAST-MODIFIED:20251123T092003Z
DESCRIPTION:Regionsliga Frauen Süd\nBegegnungs-Nr: 24\nHeim: TV Jahn Schneverdingen\nGast: MSG Hermannsburg/Bergen III\nHalle: Schneverdingen\, SH SZ (607109)\nAdresse: Am Timmerahde 32\, 29640 Schneverdingen\n
LOCATION:Schneverdingen\, SH SZ (607109): Am Timmerahde 32\, 29640 Schneverdingen
CATEGORIES:Saison 2025/26
END:VEVENT
END:VCALENDAR
