BEGIN:VCALENDAR
PRODID:-//nuDatenautomaten//framework iCal4j //DE
VERSION:2.0
CALSCALE:GREGORIAN
BEGIN:VTIMEZONE
TZID:Europe/Berlin
LAST-MODIFIED:20260306T231828Z
TZURL:https://www.tzurl.org/zoneinfo/Europe/Berlin
X-LIC-LOCATION:Europe/Berlin
X-PROLEPTIC-TZNAME:LMT
BEGIN:STANDARD
TZNAME:CET
TZOFFSETFROM:+005328
TZOFFSETTO:+0100
DTSTART:18930401T000000
END:STANDARD
BEGIN:DAYLIGHT
TZNAME:CEST
TZOFFSETFROM:+0100
TZOFFSETTO:+0200
DTSTART:19160430T230000
RDATE:19400401T020000
RDATE:19430329T020000
RDATE:19460414T020000
RDATE:19470406T030000
RDATE:19480418T020000
RDATE:19490410T020000
RDATE:19800406T020000
END:DAYLIGHT
BEGIN:STANDARD
TZNAME:CET
TZOFFSETFROM:+0200
TZOFFSETTO:+0100
DTSTART:19161001T010000
RDATE:19421102T030000
RDATE:19431004T030000
RDATE:19441002T030000
RDATE:19451118T030000
RDATE:19461007T030000
END:STANDARD
BEGIN:DAYLIGHT
TZNAME:CEST
TZOFFSETFROM:+0100
TZOFFSETTO:+0200
DTSTART:19170416T020000
RRULE:FREQ=YEARLY;UNTIL=19180415T010000Z;BYMONTH=4;BYDAY=3MO
END:DAYLIGHT
BEGIN:STANDARD
TZNAME:CET
TZOFFSETFROM:+0200
TZOFFSETTO:+0100
DTSTART:19170917T030000
RRULE:FREQ=YEARLY;UNTIL=19180916T010000Z;BYMONTH=9;BYDAY=3MO
END:STANDARD
BEGIN:DAYLIGHT
TZNAME:CEST
TZOFFSETFROM:+0100
TZOFFSETTO:+0200
DTSTART:19440403T020000
RRULE:FREQ=YEARLY;UNTIL=19450402T010000Z;BYMONTH=4;BYDAY=1MO
END:DAYLIGHT
BEGIN:DAYLIGHT
TZNAME:CEMT
TZOFFSETFROM:+0200
TZOFFSETTO:+0300
DTSTART:19450524T020000
RDATE:19470511T030000
END:DAYLIGHT
BEGIN:DAYLIGHT
TZNAME:CEST
TZOFFSETFROM:+0300
TZOFFSETTO:+0200
DTSTART:19450924T030000
RDATE:19470629T030000
END:DAYLIGHT
BEGIN:STANDARD
TZNAME:CET
TZOFFSETFROM:+0100
TZOFFSETTO:+0100
DTSTART:19460101T000000
RDATE:19800101T000000
END:STANDARD
BEGIN:STANDARD
TZNAME:CET
TZOFFSETFROM:+0200
TZOFFSETTO:+0100
DTSTART:19471005T030000
RRULE:FREQ=YEARLY;UNTIL=19491002T010000Z;BYMONTH=10;BYDAY=1SU
END:STANDARD
BEGIN:STANDARD
TZNAME:CET
TZOFFSETFROM:+0200
TZOFFSETTO:+0100
DTSTART:19800928T030000
RRULE:FREQ=YEARLY;UNTIL=19950924T010000Z;BYMONTH=9;BYDAY=-1SU
END:STANDARD
BEGIN:DAYLIGHT
TZNAME:CEST
TZOFFSETFROM:+0100
TZOFFSETTO:+0200
DTSTART:19810329T020000
RRULE:FREQ=YEARLY;BYMONTH=3;BYDAY=-1SU
END:DAYLIGHT
BEGIN:STANDARD
TZNAME:CET
TZOFFSETFROM:+0200
TZOFFSETTO:+0100
DTSTART:19961027T030000
RRULE:FREQ=YEARLY;BYMONTH=10;BYDAY=-1SU
END:STANDARD
END:VTIMEZONE
BEGIN:VEVENT
DTSTAMP:20260425T013444Z
DTSTART;TZID=Europe/Berlin:20260315T130000
DTEND;TZID=Europe/Berlin:20260315T133000
SUMMARY:Five-a-side Hannoverscher SC II vs Lehrter SV (89238)
UID:a5c9f4a0-906c-4a52-9425-970aa76400e8
STATUS:CONFIRMED
LAST-MODIFIED:20260315T193154Z
DESCRIPTION:Five-a-side\nBegegnungs-Nr: 89238\nHeim: Hannoverscher SC II\nGast: Lehrter SV\nHalle: Hannover\, Kaiser-Wilh.-Ratsgymnasium (403279)\nAdresse: Lüerstraße/Zeppelinstraße\, 30175 Hannover (OT Zoo)\n
LOCATION:Hannover\, Kaiser-Wilh.-Ratsgymnasium (403279): Lüerstraße/Zeppelinstraße\, 30175 Hannover (OT Zoo)
CATEGORIES:Saison 2025/26
END:VEVENT
BEGIN:VEVENT
DTSTAMP:20260425T013444Z
DTSTART;TZID=Europe/Berlin:20251101T152000
DTEND;TZID=Europe/Berlin:20251101T155000
SUMMARY:Five-a-side Hannoverscher SC II vs Landesberger SV (89142)
UID:1afd07f8-0043-447f-a6ef-008b9ff0e743
STATUS:CONFIRMED
LAST-MODIFIED:20251102T185707Z
DESCRIPTION:Five-a-side\nBegegnungs-Nr: 89142\nHeim: Hannoverscher SC II\nGast: Landesberger SV\nHalle: Wedemark\, MTV-Halle Mellendorf (403416)\nAdresse: Industriestraße 37\, 30900 Wedemark (OT Mellendorf)\n
LOCATION:Wedemark\, MTV-Halle Mellendorf (403416): Industriestraße 37\, 30900 Wedemark (OT Mellendorf)
CATEGORIES:Saison 2025/26
END:VEVENT
BEGIN:VEVENT
DTSTAMP:20260425T013444Z
DTSTART;TZID=Europe/Berlin:20250907T130000
DTEND;TZID=Europe/Berlin:20250907T133000
SUMMARY:Five-a-side Hannoverscher SC II vs TV E. Sehnde (89120)
UID:bac885f8-b2a6-43dc-80e9-360daed1053d
STATUS:CONFIRMED
LAST-MODIFIED:20250908T201240Z
DESCRIPTION:Five-a-side\nBegegnungs-Nr: 89120\nHeim: Hannoverscher SC II\nGast: TV E. Sehnde\nHalle: Lehrte\, Schlesische Str. (403331)\nAdresse: Schlesische Straße\, 31275 Lehrte\n
LOCATION:Lehrte\, Schlesische Str. (403331): Schlesische Straße\, 31275 Lehrte
CATEGORIES:Saison 2025/26
END:VEVENT
BEGIN:VEVENT
DTSTAMP:20260425T013444Z
DTSTART;TZID=Europe/Berlin:20260531T152000
DTEND;TZID=Europe/Berlin:20260531T155000
SUMMARY:Five-a-side Hannoverscher SC II vs HSG Heidmark III (89276)
UID:2620ee35-1d9f-46cb-aa0a-15d3eb5eea55
STATUS:CONFIRMED
DESCRIPTION:Five-a-side\nBegegnungs-Nr: 89276\nHeim: Hannoverscher SC II\nGast: HSG Heidmark III\nHalle: Steimbke\, SH (406114)\nAdresse: Schulstraße\, 31634 Steimbke\n
LOCATION:Steimbke\, SH (406114): Schulstraße\, 31634 Steimbke
CATEGORIES:Saison 2025/26
END:VEVENT
BEGIN:VEVENT
DTSTAMP:20260425T013444Z
DTSTART;TZID=Europe/Berlin:20260509T170000
DTEND;TZID=Europe/Berlin:20260509T173000
SUMMARY:Five-a-side Hannoverscher SC II vs SV Arnum e.V. (89262)
UID:c9e60557-b347-4ab7-922b-091b9416d4e2
STATUS:CONFIRMED
LAST-MODIFIED:20250806T172259Z
DESCRIPTION:Five-a-side\nBegegnungs-Nr: 89262\nHeim: Hannoverscher SC II\nGast: SV Arnum e.V.\nHalle: Hannover\, Kaiser-Wilh.-Ratsgymnasium (403279)\nAdresse: Lüerstraße/Zeppelinstraße\, 30175 Hannover (OT Zoo)\n
LOCATION:Hannover\, Kaiser-Wilh.-Ratsgymnasium (403279): Lüerstraße/Zeppelinstraße\, 30175 Hannover (OT Zoo)
CATEGORIES:Saison 2025/26
END:VEVENT
BEGIN:VEVENT
DTSTAMP:20260425T013444Z
DTSTART;TZID=Europe/Berlin:20260509T140000
DTEND;TZID=Europe/Berlin:20260509T143000
SUMMARY:Five-a-side Hannoverscher SC II vs TuS Empelde (89253)
UID:a0909693-b8ca-4b8a-8f7b-a616c00dd6a2
STATUS:CONFIRMED
LAST-MODIFIED:20250806T172259Z
DESCRIPTION:Five-a-side\nBegegnungs-Nr: 89253\nHeim: Hannoverscher SC II\nGast: TuS Empelde\nHalle: Hannover\, Kaiser-Wilh.-Ratsgymnasium (403279)\nAdresse: Lüerstraße/Zeppelinstraße\, 30175 Hannover (OT Zoo)\n
LOCATION:Hannover\, Kaiser-Wilh.-Ratsgymnasium (403279): Lüerstraße/Zeppelinstraße\, 30175 Hannover (OT Zoo)
CATEGORIES:Saison 2025/26
END:VEVENT
BEGIN:VEVENT
DTSTAMP:20260425T013444Z
DTSTART;TZID=Europe/Berlin:20260315T132000
DTEND;TZID=Europe/Berlin:20260315T135000
SUMMARY:Five-a-side HSG Exten-Rinteln vs Hannoverscher SC II (89239)
UID:794de230-7999-44f8-9d0c-73a03e628673
STATUS:CONFIRMED
LAST-MODIFIED:20260315T193308Z
DESCRIPTION:Five-a-side\nBegegnungs-Nr: 89239\nHeim: HSG Exten-Rinteln\nGast: Hannoverscher SC II\nHalle: Hannover\, Kaiser-Wilh.-Ratsgymnasium (403279)\nAdresse: Lüerstraße/Zeppelinstraße\, 30175 Hannover (OT Zoo)\n
LOCATION:Hannover\, Kaiser-Wilh.-Ratsgymnasium (403279): Lüerstraße/Zeppelinstraße\, 30175 Hannover (OT Zoo)
CATEGORIES:Saison 2025/26
END:VEVENT
BEGIN:VEVENT
DTSTAMP:20260425T013444Z
DTSTART;TZID=Europe/Berlin:20260315T120000
DTEND;TZID=Europe/Berlin:20260315T123000
SUMMARY:Five-a-side SV Arminia Hannover vs Hannoverscher SC II (89235)
UID:49719229-00ca-4480-bec5-f729527e39a7
STATUS:CONFIRMED
LAST-MODIFIED:20260315T192901Z
DESCRIPTION:Five-a-side\nBegegnungs-Nr: 89235\nHeim: SV Arminia Hannover\nGast: Hannoverscher SC II\nHalle: Hannover\, Kaiser-Wilh.-Ratsgymnasium (403279)\nAdresse: Lüerstraße/Zeppelinstraße\, 30175 Hannover (OT Zoo)\n
LOCATION:Hannover\, Kaiser-Wilh.-Ratsgymnasium (403279): Lüerstraße/Zeppelinstraße\, 30175 Hannover (OT Zoo)
CATEGORIES:Saison 2025/26
END:VEVENT
BEGIN:VEVENT
DTSTAMP:20260425T013444Z
DTSTART;TZID=Europe/Berlin:20251101T164000
DTEND;TZID=Europe/Berlin:20251101T171000
SUMMARY:Five-a-side Mellendorfer TV vs Hannoverscher SC II (89150)
UID:cdd8cbec-360a-4046-809b-69c862b5548d
STATUS:CONFIRMED
LAST-MODIFIED:20251102T190038Z
DESCRIPTION:Five-a-side\nBegegnungs-Nr: 89150\nHeim: Mellendorfer TV\nGast: Hannoverscher SC II\nHalle: Wedemark\, MTV-Halle Mellendorf (403416)\nAdresse: Industriestraße 37\, 30900 Wedemark (OT Mellendorf)\n
LOCATION:Wedemark\, MTV-Halle Mellendorf (403416): Industriestraße 37\, 30900 Wedemark (OT Mellendorf)
CATEGORIES:Saison 2025/26
END:VEVENT
BEGIN:VEVENT
DTSTAMP:20260425T013444Z
DTSTART;TZID=Europe/Berlin:20251101T160000
DTEND;TZID=Europe/Berlin:20251101T163000
SUMMARY:Five-a-side SJB Binnen vs Hannoverscher SC II (89148)
UID:6e3c09fe-ed7d-4bae-b8c9-f362f582a431
STATUS:CONFIRMED
LAST-MODIFIED:20251102T185830Z
DESCRIPTION:Five-a-side\nBegegnungs-Nr: 89148\nHeim: SJB Binnen\nGast: Hannoverscher SC II\nHalle: Wedemark\, MTV-Halle Mellendorf (403416)\nAdresse: Industriestraße 37\, 30900 Wedemark (OT Mellendorf)\n
LOCATION:Wedemark\, MTV-Halle Mellendorf (403416): Industriestraße 37\, 30900 Wedemark (OT Mellendorf)
CATEGORIES:Saison 2025/26
END:VEVENT
BEGIN:VEVENT
DTSTAMP:20260425T013444Z
DTSTART;TZID=Europe/Berlin:20250907T132000
DTEND;TZID=Europe/Berlin:20250907T135000
SUMMARY:Five-a-side SV Arnum e.V. vs Hannoverscher SC II (89121)
UID:ec859697-d20c-4f97-8841-3039a59a646b
STATUS:CONFIRMED
LAST-MODIFIED:20250908T201315Z
DESCRIPTION:Five-a-side\nBegegnungs-Nr: 89121\nHeim: SV Arnum e.V.\nGast: Hannoverscher SC II\nHalle: Lehrte\, Schlesische Str. (403331)\nAdresse: Schlesische Straße\, 31275 Lehrte\n
LOCATION:Lehrte\, Schlesische Str. (403331): Schlesische Straße\, 31275 Lehrte
CATEGORIES:Saison 2025/26
END:VEVENT
BEGIN:VEVENT
DTSTAMP:20260425T013444Z
DTSTART;TZID=Europe/Berlin:20250907T120000
DTEND;TZID=Europe/Berlin:20250907T123000
SUMMARY:Five-a-side Lehrter SV vs Hannoverscher SC II (89117)
UID:dad8fd3f-94ff-4324-8e08-57adcb7b85cd
STATUS:CONFIRMED
LAST-MODIFIED:20250908T201049Z
DESCRIPTION:Five-a-side\nBegegnungs-Nr: 89117\nHeim: Lehrter SV\nGast: Hannoverscher SC II\nHalle: Lehrte\, Schlesische Str. (403331)\nAdresse: Schlesische Straße\, 31275 Lehrte\n
LOCATION:Lehrte\, Schlesische Str. (403331): Schlesische Straße\, 31275 Lehrte
CATEGORIES:Saison 2025/26
END:VEVENT
BEGIN:VEVENT
DTSTAMP:20260425T013444Z
DTSTART;TZID=Europe/Berlin:20260531T164000
DTEND;TZID=Europe/Berlin:20260531T171000
SUMMARY:Five-a-side SSV Rodewald vs Hannoverscher SC II (89280)
UID:bf3d5b82-6132-4cfa-9d8b-2baf5b6f2a63
STATUS:CONFIRMED
LAST-MODIFIED:20250806T172259Z
DESCRIPTION:Five-a-side\nBegegnungs-Nr: 89280\nHeim: SSV Rodewald\nGast: Hannoverscher SC II\nHalle: Steimbke\, SH (406114)\nAdresse: Schulstraße\, 31634 Steimbke\n
LOCATION:Steimbke\, SH (406114): Schulstraße\, 31634 Steimbke
CATEGORIES:Saison 2025/26
END:VEVENT
BEGIN:VEVENT
DTSTAMP:20260425T013444Z
DTSTART;TZID=Europe/Berlin:20260531T160000
DTEND;TZID=Europe/Berlin:20260531T163000
SUMMARY:Five-a-side Mellendorfer TV vs Hannoverscher SC II (89278)
UID:844f98a0-8242-4836-b3ec-29009cd15f30
STATUS:CONFIRMED
LAST-MODIFIED:20250806T172258Z
DESCRIPTION:Five-a-side\nBegegnungs-Nr: 89278\nHeim: Mellendorfer TV\nGast: Hannoverscher SC II\nHalle: Steimbke\, SH (406114)\nAdresse: Schulstraße\, 31634 Steimbke\n
LOCATION:Steimbke\, SH (406114): Schulstraße\, 31634 Steimbke
CATEGORIES:Saison 2025/26
END:VEVENT
BEGIN:VEVENT
DTSTAMP:20260425T013444Z
DTSTART;TZID=Europe/Berlin:20260509T160000
DTEND;TZID=Europe/Berlin:20260509T163000
SUMMARY:Five-a-side SJB Binnen vs Hannoverscher SC II (89259)
UID:1d19495e-a591-4f9a-a8b6-4aee7815d556
STATUS:CONFIRMED
LAST-MODIFIED:20250806T172259Z
DESCRIPTION:Five-a-side\nBegegnungs-Nr: 89259\nHeim: SJB Binnen\nGast: Hannoverscher SC II\nHalle: Hannover\, Kaiser-Wilh.-Ratsgymnasium (403279)\nAdresse: Lüerstraße/Zeppelinstraße\, 30175 Hannover (OT Zoo)\n
LOCATION:Hannover\, Kaiser-Wilh.-Ratsgymnasium (403279): Lüerstraße/Zeppelinstraße\, 30175 Hannover (OT Zoo)
CATEGORIES:Saison 2025/26
END:VEVENT
BEGIN:VEVENT
DTSTAMP:20260425T013444Z
DTSTART;TZID=Europe/Berlin:20260509T150000
DTEND;TZID=Europe/Berlin:20260509T153000
SUMMARY:Five-a-side TV E. Sehnde vs Hannoverscher SC II (89256)
UID:6ffca88e-9420-4d60-bb07-a80b7878e068
STATUS:CONFIRMED
LAST-MODIFIED:20250806T172259Z
DESCRIPTION:Five-a-side\nBegegnungs-Nr: 89256\nHeim: TV E. Sehnde\nGast: Hannoverscher SC II\nHalle: Hannover\, Kaiser-Wilh.-Ratsgymnasium (403279)\nAdresse: Lüerstraße/Zeppelinstraße\, 30175 Hannover (OT Zoo)\n
LOCATION:Hannover\, Kaiser-Wilh.-Ratsgymnasium (403279): Lüerstraße/Zeppelinstraße\, 30175 Hannover (OT Zoo)
CATEGORIES:Saison 2025/26
END:VEVENT
END:VCALENDAR
