BEGIN:VCALENDAR
PRODID:-//nuDatenautomaten//framework iCal4j //DE
VERSION:2.0
CALSCALE:GREGORIAN
BEGIN:VTIMEZONE
TZID:Europe/Berlin
LAST-MODIFIED:20260306T231828Z
TZURL:https://www.tzurl.org/zoneinfo/Europe/Berlin
X-LIC-LOCATION:Europe/Berlin
X-PROLEPTIC-TZNAME:LMT
BEGIN:STANDARD
TZNAME:CET
TZOFFSETFROM:+005328
TZOFFSETTO:+0100
DTSTART:18930401T000000
END:STANDARD
BEGIN:DAYLIGHT
TZNAME:CEST
TZOFFSETFROM:+0100
TZOFFSETTO:+0200
DTSTART:19160430T230000
RDATE:19400401T020000
RDATE:19430329T020000
RDATE:19460414T020000
RDATE:19470406T030000
RDATE:19480418T020000
RDATE:19490410T020000
RDATE:19800406T020000
END:DAYLIGHT
BEGIN:STANDARD
TZNAME:CET
TZOFFSETFROM:+0200
TZOFFSETTO:+0100
DTSTART:19161001T010000
RDATE:19421102T030000
RDATE:19431004T030000
RDATE:19441002T030000
RDATE:19451118T030000
RDATE:19461007T030000
END:STANDARD
BEGIN:DAYLIGHT
TZNAME:CEST
TZOFFSETFROM:+0100
TZOFFSETTO:+0200
DTSTART:19170416T020000
RRULE:FREQ=YEARLY;UNTIL=19180415T010000Z;BYMONTH=4;BYDAY=3MO
END:DAYLIGHT
BEGIN:STANDARD
TZNAME:CET
TZOFFSETFROM:+0200
TZOFFSETTO:+0100
DTSTART:19170917T030000
RRULE:FREQ=YEARLY;UNTIL=19180916T010000Z;BYMONTH=9;BYDAY=3MO
END:STANDARD
BEGIN:DAYLIGHT
TZNAME:CEST
TZOFFSETFROM:+0100
TZOFFSETTO:+0200
DTSTART:19440403T020000
RRULE:FREQ=YEARLY;UNTIL=19450402T010000Z;BYMONTH=4;BYDAY=1MO
END:DAYLIGHT
BEGIN:DAYLIGHT
TZNAME:CEMT
TZOFFSETFROM:+0200
TZOFFSETTO:+0300
DTSTART:19450524T020000
RDATE:19470511T030000
END:DAYLIGHT
BEGIN:DAYLIGHT
TZNAME:CEST
TZOFFSETFROM:+0300
TZOFFSETTO:+0200
DTSTART:19450924T030000
RDATE:19470629T030000
END:DAYLIGHT
BEGIN:STANDARD
TZNAME:CET
TZOFFSETFROM:+0100
TZOFFSETTO:+0100
DTSTART:19460101T000000
RDATE:19800101T000000
END:STANDARD
BEGIN:STANDARD
TZNAME:CET
TZOFFSETFROM:+0200
TZOFFSETTO:+0100
DTSTART:19471005T030000
RRULE:FREQ=YEARLY;UNTIL=19491002T010000Z;BYMONTH=10;BYDAY=1SU
END:STANDARD
BEGIN:STANDARD
TZNAME:CET
TZOFFSETFROM:+0200
TZOFFSETTO:+0100
DTSTART:19800928T030000
RRULE:FREQ=YEARLY;UNTIL=19950924T010000Z;BYMONTH=9;BYDAY=-1SU
END:STANDARD
BEGIN:DAYLIGHT
TZNAME:CEST
TZOFFSETFROM:+0100
TZOFFSETTO:+0200
DTSTART:19810329T020000
RRULE:FREQ=YEARLY;BYMONTH=3;BYDAY=-1SU
END:DAYLIGHT
BEGIN:STANDARD
TZNAME:CET
TZOFFSETFROM:+0200
TZOFFSETTO:+0100
DTSTART:19961027T030000
RRULE:FREQ=YEARLY;BYMONTH=10;BYDAY=-1SU
END:STANDARD
END:VTIMEZONE
BEGIN:VEVENT
DTSTAMP:20260425T192548Z
DTSTART;TZID=Europe/Berlin:20260228T150000
DTEND;TZID=Europe/Berlin:20260228T160000
SUMMARY:Landesliga MJC TuS Bergen vs HG Winsen/Luhe (77)
UID:11f0fd9a-9ce8-49b3-b930-066677bf074b
STATUS:CONFIRMED
LAST-MODIFIED:20260302T075258Z
DESCRIPTION:Landesliga männliche Jugend C\nBegegnungs-Nr: 77\nHeim: TuS Bergen\nGast: HG Winsen/Luhe\nHalle: Bergen\, Am Heisterkamp (601106)\nAdresse: Karlsruher Str. 1\, 29303 Bergen\n
LOCATION:Bergen\, Am Heisterkamp (601106): Karlsruher Str. 1\, 29303 Bergen
CATEGORIES:Saison 2025/26
END:VEVENT
BEGIN:VEVENT
DTSTAMP:20260425T192548Z
DTSTART;TZID=Europe/Berlin:20251207T161500
DTEND;TZID=Europe/Berlin:20251207T171500
SUMMARY:Landesliga MJC TuS Bergen vs TSV Wietzendorf (57)
UID:8cceafc6-f9e0-4e6e-88b0-a2c613fe8c14
STATUS:CONFIRMED
LAST-MODIFIED:20251208T094304Z
DESCRIPTION:Landesliga männliche Jugend C\nBegegnungs-Nr: 57\nHeim: TuS Bergen\nGast: TSV Wietzendorf\nHalle: Bergen\, Am Heisterkamp (601106)\nAdresse: Karlsruher Str. 1\, 29303 Bergen\n
LOCATION:Bergen\, Am Heisterkamp (601106): Karlsruher Str. 1\, 29303 Bergen
CATEGORIES:Saison 2025/26
END:VEVENT
BEGIN:VEVENT
DTSTAMP:20260425T192548Z
DTSTART;TZID=Europe/Berlin:20251115T134500
DTEND;TZID=Europe/Berlin:20251115T144500
SUMMARY:Landesliga MJC TuS Bergen vs mJSG Buxtehude/ Beckdorf II (43)
UID:4b6410cc-9a6c-4392-9663-f4fc78962fd9
STATUS:CONFIRMED
LAST-MODIFIED:20251117T143640Z
DESCRIPTION:Landesliga männliche Jugend C\nBegegnungs-Nr: 43\nHeim: TuS Bergen\nGast: mJSG Buxtehude/ Beckdorf II\nHalle: Bergen\, Am Heisterkamp (601106)\nAdresse: Karlsruher Str. 1\, 29303 Bergen\n
LOCATION:Bergen\, Am Heisterkamp (601106): Karlsruher Str. 1\, 29303 Bergen
CATEGORIES:Saison 2025/26
END:VEVENT
BEGIN:VEVENT
DTSTAMP:20260425T192548Z
DTSTART;TZID=Europe/Berlin:20251101T171500
DTEND;TZID=Europe/Berlin:20251101T181500
SUMMARY:Landesliga MJC TuS Bergen vs HSG Heidmark (36)
UID:cbd5a566-2e5d-4170-b815-3f0bb5987ebf
STATUS:CONFIRMED
LAST-MODIFIED:20251103T081331Z
DESCRIPTION:Landesliga männliche Jugend C\nBegegnungs-Nr: 36\nHeim: TuS Bergen\nGast: HSG Heidmark\nHalle: Bergen\, Am Heisterkamp (601106)\nAdresse: Karlsruher Str. 1\, 29303 Bergen\n
LOCATION:Bergen\, Am Heisterkamp (601106): Karlsruher Str. 1\, 29303 Bergen
CATEGORIES:Saison 2025/26
END:VEVENT
BEGIN:VEVENT
DTSTAMP:20260425T192548Z
DTSTART;TZID=Europe/Berlin:20250921T180000
DTEND;TZID=Europe/Berlin:20250921T190000
SUMMARY:Landesliga MJC TuS Bergen vs VfL Westercelle (17)
UID:29b61e6e-cab1-48cf-9dd2-31a0b692a931
STATUS:CONFIRMED
LAST-MODIFIED:20250922T074326Z
DESCRIPTION:Landesliga männliche Jugend C\nBegegnungs-Nr: 17\nHeim: TuS Bergen\nGast: VfL Westercelle\nHalle: Hermannsburg\, SH Oertzetal (601134)\nAdresse: Lutterweg\, 29320 Hermannsburg\n
LOCATION:Hermannsburg\, SH Oertzetal (601134): Lutterweg\, 29320 Hermannsburg
CATEGORIES:Saison 2025/26
END:VEVENT
BEGIN:VEVENT
DTSTAMP:20260425T192548Z
DTSTART;TZID=Europe/Berlin:20251122T180000
DTEND;TZID=Europe/Berlin:20251122T190000
SUMMARY:Landesliga MJC TuS Bergen vs MTV Eyendorf II (4)
UID:e8e2bc75-be86-4ea6-8393-a221a2da48bd
STATUS:CONFIRMED
LAST-MODIFIED:20251125T150752Z
DESCRIPTION:Landesliga männliche Jugend C\nBegegnungs-Nr: 4\nHeim: TuS Bergen\nGast: MTV Eyendorf II\nHalle: Bergen\, Am Heisterkamp (601106)\nAdresse: Karlsruher Str. 1\, 29303 Bergen\n
LOCATION:Bergen\, Am Heisterkamp (601106): Karlsruher Str. 1\, 29303 Bergen
CATEGORIES:Saison 2025/26
END:VEVENT
BEGIN:VEVENT
DTSTAMP:20260425T192548Z
DTSTART;TZID=Europe/Berlin:20260425T131500
DTEND;TZID=Europe/Berlin:20260425T141500
SUMMARY:Landesliga MJC TuS Bergen vs HL Buchholz 08 - Rosengarten (130)
UID:f2516197-d823-44d7-bdc5-3397468b66bd
STATUS:CONFIRMED
DESCRIPTION:Landesliga männliche Jugend C\nBegegnungs-Nr: 130\nHeim: TuS Bergen\nGast: HL Buchholz 08 - Rosengarten\nHalle: Bergen\, Am Heisterkamp (601106)\nAdresse: Karlsruher Str. 1\, 29303 Bergen\n
LOCATION:Bergen\, Am Heisterkamp (601106): Karlsruher Str. 1\, 29303 Bergen
CATEGORIES:Saison 2025/26
END:VEVENT
BEGIN:VEVENT
DTSTAMP:20260425T192548Z
DTSTART;TZID=Europe/Berlin:20260411T171500
DTEND;TZID=Europe/Berlin:20260411T181500
SUMMARY:Landesliga MJC TuS Bergen vs JSG Fredenbeck/Stade/Harsefeld II (116)
UID:eb56c175-f6f4-4d74-bb10-153b5c1b68e8
STATUS:CONFIRMED
LAST-MODIFIED:20260413T085431Z
DESCRIPTION:Landesliga männliche Jugend C\nBegegnungs-Nr: 116\nHeim: TuS Bergen\nGast: JSG Fredenbeck/Stade/Harsefeld II\nHalle: Bergen\, Am Heisterkamp (601106)\nAdresse: Karlsruher Str. 1\, 29303 Bergen\n
LOCATION:Bergen\, Am Heisterkamp (601106): Karlsruher Str. 1\, 29303 Bergen
CATEGORIES:Saison 2025/26
END:VEVENT
BEGIN:VEVENT
DTSTAMP:20260425T192548Z
DTSTART;TZID=Europe/Berlin:20260308T110000
DTEND;TZID=Europe/Berlin:20260308T120000
SUMMARY:Landesliga MJC TuS Bergen vs Handballverein Lüneburg (107)
UID:ee9b3f2f-1000-4448-9eb1-fe017a2ac2fe
STATUS:CONFIRMED
LAST-MODIFIED:20260309T132609Z
DESCRIPTION:Landesliga männliche Jugend C\nBegegnungs-Nr: 107\nHeim: TuS Bergen\nGast: Handballverein Lüneburg\nHalle: Bergen\, Am Heisterkamp (601106)\nAdresse: Karlsruher Str. 1\, 29303 Bergen\n
LOCATION:Bergen\, Am Heisterkamp (601106): Karlsruher Str. 1\, 29303 Bergen
CATEGORIES:Saison 2025/26
END:VEVENT
BEGIN:VEVENT
DTSTAMP:20260425T192548Z
DTSTART;TZID=Europe/Berlin:20260214T153000
DTEND;TZID=Europe/Berlin:20260214T163000
SUMMARY:Landesliga MJC TuS Bergen vs MJSG Wümme-Tostedt (96)
UID:974e21b2-3f4f-437c-b6a6-8eb3551bde61
STATUS:CONFIRMED
LAST-MODIFIED:20260216T083802Z
DESCRIPTION:Landesliga männliche Jugend C\nBegegnungs-Nr: 96\nHeim: TuS Bergen\nGast: MJSG Wümme-Tostedt\nHalle: Bergen\, Am Heisterkamp (601106)\nAdresse: Karlsruher Str. 1\, 29303 Bergen\n
LOCATION:Bergen\, Am Heisterkamp (601106): Karlsruher Str. 1\, 29303 Bergen
CATEGORIES:Saison 2025/26
END:VEVENT
BEGIN:VEVENT
DTSTAMP:20260425T192548Z
DTSTART;TZID=Europe/Berlin:20260207T171500
DTEND;TZID=Europe/Berlin:20260207T181500
SUMMARY:Landesliga MJC TuS Bergen vs TV Uelzen (90)
UID:6a31b38b-5c7e-4dec-9359-63083acae4d4
STATUS:CONFIRMED
LAST-MODIFIED:20260209T084833Z
DESCRIPTION:Landesliga männliche Jugend C\nBegegnungs-Nr: 90\nHeim: TuS Bergen\nGast: TV Uelzen\nHalle: Bergen\, Am Heisterkamp (601106)\nAdresse: Karlsruher Str. 1\, 29303 Bergen\n
LOCATION:Bergen\, Am Heisterkamp (601106): Karlsruher Str. 1\, 29303 Bergen
CATEGORIES:Saison 2025/26
END:VEVENT
BEGIN:VEVENT
DTSTAMP:20260425T192548Z
DTSTART;TZID=Europe/Berlin:20260304T180000
DTEND;TZID=Europe/Berlin:20260304T190000
SUMMARY:Landesliga MJC MTV Eyendorf II vs TuS Bergen (70)
UID:e7f44ac8-ed01-434c-87b8-c979c5fe57a3
STATUS:CONFIRMED
LAST-MODIFIED:20260309T132124Z
DESCRIPTION:Landesliga männliche Jugend C\nBegegnungs-Nr: 70\nHeim: MTV Eyendorf II\nGast: TuS Bergen\nHalle: Eyendorf\, Gerhard-Langer-SH (603106)\nAdresse: Zum Borgfeld\, 21376 Eyendorf\n
LOCATION:Eyendorf\, Gerhard-Langer-SH (603106): Zum Borgfeld\, 21376 Eyendorf
CATEGORIES:Saison 2025/26
END:VEVENT
BEGIN:VEVENT
DTSTAMP:20260425T192548Z
DTSTART;TZID=Europe/Berlin:20251214T120000
DTEND;TZID=Europe/Berlin:20251214T130000
SUMMARY:Landesliga MJC HL Buchholz 08 - Rosengarten vs TuS Bergen (64)
UID:f15b3b1f-5554-4a2f-b468-885c12c74f12
STATUS:CONFIRMED
LAST-MODIFIED:20251216T083008Z
DESCRIPTION:Landesliga männliche Jugend C\nBegegnungs-Nr: 64\nHeim: HL Buchholz 08 - Rosengarten\nGast: TuS Bergen\nHalle: Klecken\, SH (603134)\nAdresse: Heinbuchenweg 19\, 21224 Ortsteil Klecken/Rosengarten\n
LOCATION:Klecken\, SH (603134): Heinbuchenweg 19\, 21224 Ortsteil Klecken/Rosengarten
CATEGORIES:Saison 2025/26
END:VEVENT
BEGIN:VEVENT
DTSTAMP:20260425T192548Z
DTSTART;TZID=Europe/Berlin:20260410T180000
DTEND;TZID=Europe/Berlin:20260410T190000
SUMMARY:Landesliga MJC JSG Fredenbeck/Stade/Harsefeld II vs TuS Bergen (50)
UID:e6c259e9-e3b9-4647-8ea7-faa13d70bdd3
STATUS:CONFIRMED
LAST-MODIFIED:20260413T085004Z
DESCRIPTION:Landesliga männliche Jugend C\nBegegnungs-Nr: 50\nHeim: JSG Fredenbeck/Stade/Harsefeld II\nGast: TuS Bergen\nHalle: Harsefeld\, Oberschule Jahnstraße (608113)\nAdresse: Jahnstraße\, 21698 Harsefeld\n
LOCATION:Harsefeld\, Oberschule Jahnstraße (608113): Jahnstraße\, 21698 Harsefeld
CATEGORIES:Saison 2025/26
END:VEVENT
BEGIN:VEVENT
DTSTAMP:20260425T192548Z
DTSTART;TZID=Europe/Berlin:20251127T183000
DTEND;TZID=Europe/Berlin:20251127T193000
SUMMARY:Landesliga MJC Handballverein Lüneburg vs TuS Bergen (41)
UID:312f5393-cc78-4872-a0b8-96e1064fea0a
STATUS:CONFIRMED
LAST-MODIFIED:20251201T092647Z
DESCRIPTION:Landesliga männliche Jugend C\nBegegnungs-Nr: 41\nHeim: Handballverein Lüneburg\nGast: TuS Bergen\nHalle: Lüneburg\, SH Oedeme (605150)\nAdresse: Schaperdrift\, 21335 Lüneburg (OT Oedeme)\n
LOCATION:Lüneburg\, SH Oedeme (605150): Schaperdrift\, 21335 Lüneburg (OT Oedeme)
CATEGORIES:Saison 2025/26
END:VEVENT
BEGIN:VEVENT
DTSTAMP:20260425T192548Z
DTSTART;TZID=Europe/Berlin:20251005T150000
DTEND;TZID=Europe/Berlin:20251005T160000
SUMMARY:Landesliga MJC MJSG Wümme-Tostedt vs TuS Bergen (30)
UID:9cc1944f-65ca-4577-8033-b4fd5cf13d42
STATUS:CONFIRMED
LAST-MODIFIED:20251006T080508Z
DESCRIPTION:Landesliga männliche Jugend C\nBegegnungs-Nr: 30\nHeim: MJSG Wümme-Tostedt\nGast: TuS Bergen\nHalle: Rotenburg\, Bodo-Räke-Halle  (609104)\nAdresse: Gerberstraße\, 27356 Rotenburg (W.)\n
LOCATION:Rotenburg\, Bodo-Räke-Halle  (609104): Gerberstraße\, 27356 Rotenburg (W.)
CATEGORIES:Saison 2025/26
END:VEVENT
BEGIN:VEVENT
DTSTAMP:20260425T192548Z
DTSTART;TZID=Europe/Berlin:20251119T181500
DTEND;TZID=Europe/Berlin:20251119T191500
SUMMARY:Landesliga MJC TV Uelzen vs TuS Bergen (24)
UID:5338b489-a3a2-4590-a8bd-9be0045f8bef
STATUS:CONFIRMED
LAST-MODIFIED:20251124T094254Z
DESCRIPTION:Landesliga männliche Jugend C\nBegegnungs-Nr: 24\nHeim: TV Uelzen\nGast: TuS Bergen\nHalle: Uelzen\, Herzog-Ernst-Gymnasium (605185)\nAdresse: Greyerstraße\, 29525 Uelzen\n
LOCATION:Uelzen\, Herzog-Ernst-Gymnasium (605185): Greyerstraße\, 29525 Uelzen
CATEGORIES:Saison 2025/26
END:VEVENT
BEGIN:VEVENT
DTSTAMP:20260425T192548Z
DTSTART;TZID=Europe/Berlin:20260301T130000
DTEND;TZID=Europe/Berlin:20260301T140000
SUMMARY:Landesliga MJC HG Winsen/Luhe vs TuS Bergen (11)
UID:da1d57b2-bf92-42d3-8b01-6c8ef069d991
STATUS:CONFIRMED
LAST-MODIFIED:20260302T075551Z
DESCRIPTION:Landesliga männliche Jugend C\nBegegnungs-Nr: 11\nHeim: HG Winsen/Luhe\nGast: TuS Bergen\nHalle: Winsen/L.\, SH BS (603121)\nAdresse: Bürgerweide\, 21423 Winsen/Luhe\n
LOCATION:Winsen/L.\, SH BS (603121): Bürgerweide\, 21423 Winsen/Luhe
CATEGORIES:Saison 2025/26
END:VEVENT
BEGIN:VEVENT
DTSTAMP:20260425T192548Z
DTSTART;TZID=Europe/Berlin:20260419T123000
DTEND;TZID=Europe/Berlin:20260419T133000
SUMMARY:Landesliga MJC TSV Wietzendorf vs TuS Bergen (123)
UID:440b7a6c-a5eb-4c86-a409-0e875a76d1f2
STATUS:CONFIRMED
LAST-MODIFIED:20260420T174710Z
DESCRIPTION:Landesliga männliche Jugend C\nBegegnungs-Nr: 123\nHeim: TSV Wietzendorf\nGast: TuS Bergen\nHalle: Wietzendorf\, SH (607116)\nAdresse: Kampstraße\, 29649 Wietzendorf\n
LOCATION:Wietzendorf\, SH (607116): Kampstraße\, 29649 Wietzendorf
CATEGORIES:Saison 2025/26
END:VEVENT
BEGIN:VEVENT
DTSTAMP:20260425T192548Z
DTSTART;TZID=Europe/Berlin:20260314T121500
DTEND;TZID=Europe/Berlin:20260314T131500
SUMMARY:Landesliga MJC mJSG Buxtehude/ Beckdorf II vs TuS Bergen (109)
UID:13d98546-1f73-4cc6-8859-a755c62395e9
STATUS:CONFIRMED
LAST-MODIFIED:20260316T083205Z
DESCRIPTION:Landesliga männliche Jugend C\nBegegnungs-Nr: 109\nHeim: mJSG Buxtehude/ Beckdorf II\nGast: TuS Bergen\nHalle: Buxtehude\, Halle Nord - NEU (608164)\nAdresse: Konrad-Adenauer-Allee 2\, 21614 Buxtehude\n
LOCATION:Buxtehude\, Halle Nord - NEU (608164): Konrad-Adenauer-Allee 2\, 21614 Buxtehude
CATEGORIES:Saison 2025/26
END:VEVENT
BEGIN:VEVENT
DTSTAMP:20260425T192548Z
DTSTART;TZID=Europe/Berlin:20260222T151500
DTEND;TZID=Europe/Berlin:20260222T161500
SUMMARY:Landesliga MJC HSG Heidmark vs TuS Bergen (102)
UID:c9ea499c-1bcf-4fde-a2ef-7f193f63cb76
STATUS:CONFIRMED
LAST-MODIFIED:20260223T153533Z
DESCRIPTION:Landesliga männliche Jugend C\nBegegnungs-Nr: 102\nHeim: HSG Heidmark\nGast: TuS Bergen\nHalle: Fallingbostel\, Sportzentrum (607103)\nAdresse: Idinger Heide\, 29683 Fallingbostel\n
LOCATION:Fallingbostel\, Sportzentrum (607103): Idinger Heide\, 29683 Fallingbostel
CATEGORIES:Saison 2025/26
END:VEVENT
BEGIN:VEVENT
DTSTAMP:20260425T192548Z
DTSTART;TZID=Europe/Berlin:20260124T160000
DTEND;TZID=Europe/Berlin:20260124T170000
SUMMARY:Landesliga MJC VfL Westercelle vs TuS Bergen (83)
UID:2ffe0e08-5ad5-476a-a201-bf028b7fd913
STATUS:CONFIRMED
LAST-MODIFIED:20260126T090456Z
DESCRIPTION:Landesliga männliche Jugend C\nBegegnungs-Nr: 83\nHeim: VfL Westercelle\nGast: TuS Bergen\nHalle: Celle\, Gewerbliche Berufsschule (601116)\nAdresse: Lönsweg\, 29225 Celle (OT Neustadt)\n
LOCATION:Celle\, Gewerbliche Berufsschule (601116): Lönsweg\, 29225 Celle (OT Neustadt)
CATEGORIES:Saison 2025/26
END:VEVENT
END:VCALENDAR
