BEGIN:VCALENDAR
PRODID:-//nuDatenautomaten//framework iCal4j //DE
VERSION:2.0
CALSCALE:GREGORIAN
BEGIN:VTIMEZONE
TZID:Europe/Berlin
LAST-MODIFIED:20260306T231828Z
TZURL:https://www.tzurl.org/zoneinfo/Europe/Berlin
X-LIC-LOCATION:Europe/Berlin
X-PROLEPTIC-TZNAME:LMT
BEGIN:STANDARD
TZNAME:CET
TZOFFSETFROM:+005328
TZOFFSETTO:+0100
DTSTART:18930401T000000
END:STANDARD
BEGIN:DAYLIGHT
TZNAME:CEST
TZOFFSETFROM:+0100
TZOFFSETTO:+0200
DTSTART:19160430T230000
RDATE:19400401T020000
RDATE:19430329T020000
RDATE:19460414T020000
RDATE:19470406T030000
RDATE:19480418T020000
RDATE:19490410T020000
RDATE:19800406T020000
END:DAYLIGHT
BEGIN:STANDARD
TZNAME:CET
TZOFFSETFROM:+0200
TZOFFSETTO:+0100
DTSTART:19161001T010000
RDATE:19421102T030000
RDATE:19431004T030000
RDATE:19441002T030000
RDATE:19451118T030000
RDATE:19461007T030000
END:STANDARD
BEGIN:DAYLIGHT
TZNAME:CEST
TZOFFSETFROM:+0100
TZOFFSETTO:+0200
DTSTART:19170416T020000
RRULE:FREQ=YEARLY;UNTIL=19180415T010000Z;BYMONTH=4;BYDAY=3MO
END:DAYLIGHT
BEGIN:STANDARD
TZNAME:CET
TZOFFSETFROM:+0200
TZOFFSETTO:+0100
DTSTART:19170917T030000
RRULE:FREQ=YEARLY;UNTIL=19180916T010000Z;BYMONTH=9;BYDAY=3MO
END:STANDARD
BEGIN:DAYLIGHT
TZNAME:CEST
TZOFFSETFROM:+0100
TZOFFSETTO:+0200
DTSTART:19440403T020000
RRULE:FREQ=YEARLY;UNTIL=19450402T010000Z;BYMONTH=4;BYDAY=1MO
END:DAYLIGHT
BEGIN:DAYLIGHT
TZNAME:CEMT
TZOFFSETFROM:+0200
TZOFFSETTO:+0300
DTSTART:19450524T020000
RDATE:19470511T030000
END:DAYLIGHT
BEGIN:DAYLIGHT
TZNAME:CEST
TZOFFSETFROM:+0300
TZOFFSETTO:+0200
DTSTART:19450924T030000
RDATE:19470629T030000
END:DAYLIGHT
BEGIN:STANDARD
TZNAME:CET
TZOFFSETFROM:+0100
TZOFFSETTO:+0100
DTSTART:19460101T000000
RDATE:19800101T000000
END:STANDARD
BEGIN:STANDARD
TZNAME:CET
TZOFFSETFROM:+0200
TZOFFSETTO:+0100
DTSTART:19471005T030000
RRULE:FREQ=YEARLY;UNTIL=19491002T010000Z;BYMONTH=10;BYDAY=1SU
END:STANDARD
BEGIN:STANDARD
TZNAME:CET
TZOFFSETFROM:+0200
TZOFFSETTO:+0100
DTSTART:19800928T030000
RRULE:FREQ=YEARLY;UNTIL=19950924T010000Z;BYMONTH=9;BYDAY=-1SU
END:STANDARD
BEGIN:DAYLIGHT
TZNAME:CEST
TZOFFSETFROM:+0100
TZOFFSETTO:+0200
DTSTART:19810329T020000
RRULE:FREQ=YEARLY;BYMONTH=3;BYDAY=-1SU
END:DAYLIGHT
BEGIN:STANDARD
TZNAME:CET
TZOFFSETFROM:+0200
TZOFFSETTO:+0100
DTSTART:19961027T030000
RRULE:FREQ=YEARLY;BYMONTH=10;BYDAY=-1SU
END:STANDARD
END:VTIMEZONE
BEGIN:VEVENT
DTSTAMP:20260425T214919Z
DTSTART;TZID=Europe/Berlin:20260211T193000
DTEND;TZID=Europe/Berlin:20260211T210000
SUMMARY:Landesliga MJA HSG Auhagen/Stadthagen vs TV Hannover-Badenstedt (41123)
UID:39a054d6-265e-4280-b0dc-d8765319a96a
STATUS:CONFIRMED
LAST-MODIFIED:20260212T083739Z
DESCRIPTION:Landesliga MJA\nBegegnungs-Nr: 41123\nHeim: HSG Auhagen/Stadthagen\nGast: TV Hannover-Badenstedt\nHalle: Stadthagen\, Kreissporthalle  (406138)\nAdresse: Jahnstraße\, 31655 Stadthagen\n
LOCATION:Stadthagen\, Kreissporthalle  (406138): Jahnstraße\, 31655 Stadthagen
CATEGORIES:Saison 2025/26
END:VEVENT
BEGIN:VEVENT
DTSTAMP:20260425T214919Z
DTSTART;TZID=Europe/Berlin:20250921T150000
DTEND;TZID=Europe/Berlin:20250921T163000
SUMMARY:Landesliga MJA HSG Auhagen/Stadthagen vs TuS Wettbergen (41108)
UID:2cd9f3ef-902a-430f-9861-4934e81f7436
STATUS:CONFIRMED
LAST-MODIFIED:20250922T051649Z
DESCRIPTION:Landesliga MJA\nBegegnungs-Nr: 41108\nHeim: HSG Auhagen/Stadthagen\nGast: TuS Wettbergen\nHalle: Sachsenhagen\, SH Grundschule (406125)\nAdresse: Am Ziegenbach 6\, 31553 Sachsenhagen\n
LOCATION:Sachsenhagen\, SH Grundschule (406125): Am Ziegenbach 6\, 31553 Sachsenhagen
CATEGORIES:Saison 2025/26
END:VEVENT
BEGIN:VEVENT
DTSTAMP:20260425T214919Z
DTSTART;TZID=Europe/Berlin:20260426T170000
DTEND;TZID=Europe/Berlin:20260426T183000
SUMMARY:Landesliga MJA HSG Auhagen/Stadthagen vs SG Misburg (41156)
UID:07a8c750-c2b8-4105-bb8b-8486a6c035b1
STATUS:CONFIRMED
DESCRIPTION:Landesliga MJA\nBegegnungs-Nr: 41156\nHeim: HSG Auhagen/Stadthagen\nGast: SG Misburg\nHalle: Sachsenhagen\, SH Grundschule (406125)\nAdresse: Am Ziegenbach 6\, 31553 Sachsenhagen\n
LOCATION:Sachsenhagen\, SH Grundschule (406125): Am Ziegenbach 6\, 31553 Sachsenhagen
CATEGORIES:Saison 2025/26
END:VEVENT
BEGIN:VEVENT
DTSTAMP:20260425T214919Z
DTSTART;TZID=Europe/Berlin:20260124T180000
DTEND;TZID=Europe/Berlin:20260124T193000
SUMMARY:Landesliga MJA HSG Auhagen/Stadthagen vs TV E. Sehnde (41132)
UID:e61909b6-4e89-4bb6-9353-63606413af41
STATUS:CONFIRMED
LAST-MODIFIED:20260126T083423Z
DESCRIPTION:Landesliga MJA\nBegegnungs-Nr: 41132\nHeim: HSG Auhagen/Stadthagen\nGast: TV E. Sehnde\nHalle: Sachsenhagen\, SH Grundschule (406125)\nAdresse: Am Ziegenbach 6\, 31553 Sachsenhagen\n
LOCATION:Sachsenhagen\, SH Grundschule (406125): Am Ziegenbach 6\, 31553 Sachsenhagen
CATEGORIES:Saison 2025/26
END:VEVENT
BEGIN:VEVENT
DTSTAMP:20260425T214919Z
DTSTART;TZID=Europe/Berlin:20260222T133000
DTEND;TZID=Europe/Berlin:20260222T150000
SUMMARY:Landesliga MJA HSG Auhagen/Stadthagen vs TSV Friesen Hänigsen (41139)
UID:13efc6aa-5342-4d14-867c-4cf4a44ec3fb
STATUS:CONFIRMED
LAST-MODIFIED:20260223T090303Z
DESCRIPTION:Landesliga MJA\nBegegnungs-Nr: 41139\nHeim: HSG Auhagen/Stadthagen\nGast: TSV Friesen Hänigsen\nHalle: Sachsenhagen\, SH Grundschule (406125)\nAdresse: Am Ziegenbach 6\, 31553 Sachsenhagen\n
LOCATION:Sachsenhagen\, SH Grundschule (406125): Am Ziegenbach 6\, 31553 Sachsenhagen
CATEGORIES:Saison 2025/26
END:VEVENT
BEGIN:VEVENT
DTSTAMP:20260425T214919Z
DTSTART;TZID=Europe/Berlin:20251115T143000
DTEND;TZID=Europe/Berlin:20251115T160000
SUMMARY:Landesliga MJA HSG Auhagen/Stadthagen vs TS Großburgwedel (41113)
UID:851ed2a7-2acf-400e-8d6f-44cbd0696d7a
STATUS:CONFIRMED
LAST-MODIFIED:20251116T090117Z
DESCRIPTION:Landesliga MJA\nBegegnungs-Nr: 41113\nHeim: HSG Auhagen/Stadthagen\nGast: TS Großburgwedel\nHalle: Sachsenhagen\, SH Grundschule (406125)\nAdresse: Am Ziegenbach 6\, 31553 Sachsenhagen\n
LOCATION:Sachsenhagen\, SH Grundschule (406125): Am Ziegenbach 6\, 31553 Sachsenhagen
CATEGORIES:Saison 2025/26
END:VEVENT
BEGIN:VEVENT
DTSTAMP:20260425T214919Z
DTSTART;TZID=Europe/Berlin:20260315T130000
DTEND;TZID=Europe/Berlin:20260315T143000
SUMMARY:Landesliga MJA HSG Auhagen/Stadthagen vs Garbsener SC (41146)
UID:cc7a36f0-0312-460b-9270-39bc13f80e1b
STATUS:CONFIRMED
LAST-MODIFIED:20260315T164342Z
DESCRIPTION:Landesliga MJA\nBegegnungs-Nr: 41146\nHeim: HSG Auhagen/Stadthagen\nGast: Garbsener SC\nHalle: Sachsenhagen\, SH Grundschule (406125)\nAdresse: Am Ziegenbach 6\, 31553 Sachsenhagen\n
LOCATION:Sachsenhagen\, SH Grundschule (406125): Am Ziegenbach 6\, 31553 Sachsenhagen
CATEGORIES:Saison 2025/26
END:VEVENT
BEGIN:VEVENT
DTSTAMP:20260425T214919Z
DTSTART;TZID=Europe/Berlin:20260117T150000
DTEND;TZID=Europe/Berlin:20260117T163000
SUMMARY:Landesliga MJA SG Misburg vs HSG Auhagen/Stadthagen (41128)
UID:fb3c8249-3d1a-4ed2-b5c7-945f44bc2b79
STATUS:CONFIRMED
LAST-MODIFIED:20260117T103455Z
DESCRIPTION:Landesliga MJA\nBegegnungs-Nr: 41128\nHeim: SG Misburg\nGast: HSG Auhagen/Stadthagen\nHalle: Hannover\, SZ Misburg Halle I (403267)\nAdresse: Ludwig-Jahn-Straße 6c\, 30629 Hannover (OT Misburg)\n
LOCATION:Hannover\, SZ Misburg Halle I (403267): Ludwig-Jahn-Straße 6c\, 30629 Hannover (OT Misburg)
CATEGORIES:Saison 2025/26
END:VEVENT
BEGIN:VEVENT
DTSTAMP:20260425T214919Z
DTSTART;TZID=Europe/Berlin:20250913T150000
DTEND;TZID=Europe/Berlin:20250913T163000
SUMMARY:Landesliga MJA TV E. Sehnde vs HSG Auhagen/Stadthagen (41104)
UID:a2081b1f-54fb-404d-8edc-a2cbb3ca6e9a
STATUS:CONFIRMED
LAST-MODIFIED:20250914T050837Z
DESCRIPTION:Landesliga MJA\nBegegnungs-Nr: 41104\nHeim: TV E. Sehnde\nGast: HSG Auhagen/Stadthagen\nHalle: Sportzentrum Sehnde 1 (403383)\nAdresse: Chausseestraße 12\, 31319 Sehnde\n
LOCATION:Sportzentrum Sehnde 1 (403383): Chausseestraße 12\, 31319 Sehnde
CATEGORIES:Saison 2025/26
END:VEVENT
BEGIN:VEVENT
DTSTAMP:20260425T214919Z
DTSTART;TZID=Europe/Berlin:20260428T183000
DTEND;TZID=Europe/Berlin:20260428T200000
SUMMARY:Landesliga MJA TuS Wettbergen vs HSG Auhagen/Stadthagen (41136)
UID:a5bbee94-effa-43d2-93aa-dcc6887dcae7
STATUS:CONFIRMED
LAST-MODIFIED:20260223T090133Z
DESCRIPTION:Landesliga MJA\nBegegnungs-Nr: 41136\nHeim: TuS Wettbergen\nGast: HSG Auhagen/Stadthagen\nHalle: Hannover\, Am Sportpark Wettbergen (403278)\nAdresse: Deveser Straße 32 / Am Sportpark\, 30457 Hannover (OT Wettbergen)\n
LOCATION:Hannover\, Am Sportpark Wettbergen (403278): Deveser Straße 32 / Am Sportpark\, 30457 Hannover (OT Wettbergen)
CATEGORIES:Saison 2025/26
END:VEVENT
BEGIN:VEVENT
DTSTAMP:20260425T214919Z
DTSTART;TZID=Europe/Berlin:20260307T160000
DTEND;TZID=Europe/Berlin:20260307T173000
SUMMARY:Landesliga MJA TS Großburgwedel vs HSG Auhagen/Stadthagen (41141)
UID:53e93111-c70a-4b0f-88c9-6cc2ae672726
STATUS:CONFIRMED
LAST-MODIFIED:20260308T100547Z
DESCRIPTION:Landesliga MJA\nBegegnungs-Nr: 41141\nHeim: TS Großburgwedel\nGast: HSG Auhagen/Stadthagen\nHalle: Burgwedel\, SZ Auf der Ramhorst (403210)\nAdresse: Auf der Ramhorst\, 30938 Burgwedel (OT Großburgwedel)\n
LOCATION:Burgwedel\, SZ Auf der Ramhorst (403210): Auf der Ramhorst\, 30938 Burgwedel (OT Großburgwedel)
CATEGORIES:Saison 2025/26
END:VEVENT
BEGIN:VEVENT
DTSTAMP:20260425T214919Z
DTSTART;TZID=Europe/Berlin:20251109T153000
DTEND;TZID=Europe/Berlin:20251109T170000
SUMMARY:Landesliga MJA TSV Friesen Hänigsen vs HSG Auhagen/Stadthagen (41111)
UID:b505609e-f9cc-4b71-a859-fb8ced2a3286
STATUS:CONFIRMED
LAST-MODIFIED:20251110T075157Z
DESCRIPTION:Landesliga MJA\nBegegnungs-Nr: 41111\nHeim: TSV Friesen Hänigsen\nGast: HSG Auhagen/Stadthagen\nHalle: Uetze\, Hänigsen (403396)\nAdresse: Moorgartenweg\, 31311 Uetze (OT Hänigsen)\n
LOCATION:Uetze\, Hänigsen (403396): Moorgartenweg\, 31311 Uetze (OT Hänigsen)
CATEGORIES:Saison 2025/26
END:VEVENT
BEGIN:VEVENT
DTSTAMP:20260425T214919Z
DTSTART;TZID=Europe/Berlin:20251122T130000
DTEND;TZID=Europe/Berlin:20251122T143000
SUMMARY:Landesliga MJA Garbsener SC vs HSG Auhagen/Stadthagen (41118)
UID:3d9db7ad-47d1-4c9a-87c1-35c10b5bf1aa
STATUS:CONFIRMED
LAST-MODIFIED:20251123T094121Z
DESCRIPTION:Landesliga MJA\nBegegnungs-Nr: 41118\nHeim: Garbsener SC\nGast: HSG Auhagen/Stadthagen\nHalle: Garbsen\, IGS II (403242)\nAdresse: Kastendamm\, 30823 Garbsen\n
LOCATION:Garbsen\, IGS II (403242): Kastendamm\, 30823 Garbsen
CATEGORIES:Saison 2025/26
END:VEVENT
BEGIN:VEVENT
DTSTAMP:20260425T214919Z
DTSTART;TZID=Europe/Berlin:20260418T161500
DTEND;TZID=Europe/Berlin:20260418T174500
SUMMARY:Landesliga MJA TV Hannover-Badenstedt vs HSG Auhagen/Stadthagen (41151)
UID:33512b1d-42be-4c50-9a46-109057d85aeb
STATUS:CONFIRMED
LAST-MODIFIED:20260418T062353Z
DESCRIPTION:Landesliga MJA\nBegegnungs-Nr: 41151\nHeim: TV Hannover-Badenstedt\nGast: HSG Auhagen/Stadthagen\nHalle: Hannover\, SZ Badenstedt (403257)\nAdresse: Salzweg 30\, 30455 Hannover (OT Badenstedt)\n
LOCATION:Hannover\, SZ Badenstedt (403257): Salzweg 30\, 30455 Hannover (OT Badenstedt)
CATEGORIES:Saison 2025/26
END:VEVENT
END:VCALENDAR
