BEGIN:VCALENDAR
PRODID:-//nuDatenautomaten//framework iCal4j //DE
VERSION:2.0
CALSCALE:GREGORIAN
BEGIN:VTIMEZONE
TZID:Europe/Berlin
LAST-MODIFIED:20260306T231828Z
TZURL:https://www.tzurl.org/zoneinfo/Europe/Berlin
X-LIC-LOCATION:Europe/Berlin
X-PROLEPTIC-TZNAME:LMT
BEGIN:STANDARD
TZNAME:CET
TZOFFSETFROM:+005328
TZOFFSETTO:+0100
DTSTART:18930401T000000
END:STANDARD
BEGIN:DAYLIGHT
TZNAME:CEST
TZOFFSETFROM:+0100
TZOFFSETTO:+0200
DTSTART:19160430T230000
RDATE:19400401T020000
RDATE:19430329T020000
RDATE:19460414T020000
RDATE:19470406T030000
RDATE:19480418T020000
RDATE:19490410T020000
RDATE:19800406T020000
END:DAYLIGHT
BEGIN:STANDARD
TZNAME:CET
TZOFFSETFROM:+0200
TZOFFSETTO:+0100
DTSTART:19161001T010000
RDATE:19421102T030000
RDATE:19431004T030000
RDATE:19441002T030000
RDATE:19451118T030000
RDATE:19461007T030000
END:STANDARD
BEGIN:DAYLIGHT
TZNAME:CEST
TZOFFSETFROM:+0100
TZOFFSETTO:+0200
DTSTART:19170416T020000
RRULE:FREQ=YEARLY;UNTIL=19180415T010000Z;BYMONTH=4;BYDAY=3MO
END:DAYLIGHT
BEGIN:STANDARD
TZNAME:CET
TZOFFSETFROM:+0200
TZOFFSETTO:+0100
DTSTART:19170917T030000
RRULE:FREQ=YEARLY;UNTIL=19180916T010000Z;BYMONTH=9;BYDAY=3MO
END:STANDARD
BEGIN:DAYLIGHT
TZNAME:CEST
TZOFFSETFROM:+0100
TZOFFSETTO:+0200
DTSTART:19440403T020000
RRULE:FREQ=YEARLY;UNTIL=19450402T010000Z;BYMONTH=4;BYDAY=1MO
END:DAYLIGHT
BEGIN:DAYLIGHT
TZNAME:CEMT
TZOFFSETFROM:+0200
TZOFFSETTO:+0300
DTSTART:19450524T020000
RDATE:19470511T030000
END:DAYLIGHT
BEGIN:DAYLIGHT
TZNAME:CEST
TZOFFSETFROM:+0300
TZOFFSETTO:+0200
DTSTART:19450924T030000
RDATE:19470629T030000
END:DAYLIGHT
BEGIN:STANDARD
TZNAME:CET
TZOFFSETFROM:+0100
TZOFFSETTO:+0100
DTSTART:19460101T000000
RDATE:19800101T000000
END:STANDARD
BEGIN:STANDARD
TZNAME:CET
TZOFFSETFROM:+0200
TZOFFSETTO:+0100
DTSTART:19471005T030000
RRULE:FREQ=YEARLY;UNTIL=19491002T010000Z;BYMONTH=10;BYDAY=1SU
END:STANDARD
BEGIN:STANDARD
TZNAME:CET
TZOFFSETFROM:+0200
TZOFFSETTO:+0100
DTSTART:19800928T030000
RRULE:FREQ=YEARLY;UNTIL=19950924T010000Z;BYMONTH=9;BYDAY=-1SU
END:STANDARD
BEGIN:DAYLIGHT
TZNAME:CEST
TZOFFSETFROM:+0100
TZOFFSETTO:+0200
DTSTART:19810329T020000
RRULE:FREQ=YEARLY;BYMONTH=3;BYDAY=-1SU
END:DAYLIGHT
BEGIN:STANDARD
TZNAME:CET
TZOFFSETFROM:+0200
TZOFFSETTO:+0100
DTSTART:19961027T030000
RRULE:FREQ=YEARLY;BYMONTH=10;BYDAY=-1SU
END:STANDARD
END:VTIMEZONE
BEGIN:VEVENT
DTSTAMP:20260424T145811Z
DTSTART;TZID=Europe/Berlin:20251109T112000
DTEND;TZID=Europe/Berlin:20251109T115000
SUMMARY:Minis A DJK BW Hildesheim vs TuS Empelde (81098)
UID:aef020d1-f582-4dfe-ab42-6396198f332e
STATUS:CONFIRMED
LAST-MODIFIED:20251117T170345Z
DESCRIPTION:Minis A\nBegegnungs-Nr: 81098\nHeim: DJK BW Hildesheim\nGast: TuS Empelde\nHalle: Elze\, SH (405121)\nAdresse: Sehlder Straße 20\, 31008 Elze / Leine\n
LOCATION:Elze\, SH (405121): Sehlder Straße 20\, 31008 Elze / Leine
CATEGORIES:Saison 2025/26
END:VEVENT
BEGIN:VEVENT
DTSTAMP:20260424T145811Z
DTSTART;TZID=Europe/Berlin:20260425T100000
DTEND;TZID=Europe/Berlin:20260425T103000
SUMMARY:Minis A DJK BW Hildesheim vs TuS GW Himmelsthür (81603)
UID:6906026e-e483-4b3c-8dd0-bc4108356511
STATUS:CONFIRMED
DESCRIPTION:Minis A\nBegegnungs-Nr: 81603\nHeim: DJK BW Hildesheim\nGast: TuS GW Himmelsthür\nHalle: Hildesheim\, SH Stadtmitte (405102)\nAdresse: Pfaffenstieg\, 31134 Hildesheim (OT Mitte)\n
LOCATION:Hildesheim\, SH Stadtmitte (405102): Pfaffenstieg\, 31134 Hildesheim (OT Mitte)
CATEGORIES:Saison 2025/26
END:VEVENT
BEGIN:VEVENT
DTSTAMP:20260424T145811Z
DTSTART;TZID=Europe/Berlin:20260425T121500
DTEND;TZID=Europe/Berlin:20260425T124500
SUMMARY:Minis A DJK BW Hildesheim vs HSG Bruchgraben Füchse (81615)
UID:ddbaae45-e669-4545-a577-2e8a3dbd4aca
STATUS:CONFIRMED
DESCRIPTION:Minis A\nBegegnungs-Nr: 81615\nHeim: DJK BW Hildesheim\nGast: HSG Bruchgraben Füchse\nHalle: Hildesheim\, SH Stadtmitte (405102)\nAdresse: Pfaffenstieg\, 31134 Hildesheim (OT Mitte)\n
LOCATION:Hildesheim\, SH Stadtmitte (405102): Pfaffenstieg\, 31134 Hildesheim (OT Mitte)
CATEGORIES:Saison 2025/26
END:VEVENT
BEGIN:VEVENT
DTSTAMP:20260424T145811Z
DTSTART;TZID=Europe/Berlin:20260214T102500
DTEND;TZID=Europe/Berlin:20260214T105500
SUMMARY:Minis A DJK BW Hildesheim vs SV Eintracht Hiddestorf (81377)
UID:4e3288e5-075f-4e2b-8918-11cc0d41225e
STATUS:CONFIRMED
LAST-MODIFIED:20260226T142436Z
DESCRIPTION:Minis A\nBegegnungs-Nr: 81377\nHeim: DJK BW Hildesheim\nGast: SV Eintracht Hiddestorf\nHalle: Bad Salzdetfurth\, SH Schulzentrum (405114)\nAdresse: Birkenweg\, 31162  Bad Salzdetfurth\n
LOCATION:Bad Salzdetfurth\, SH Schulzentrum (405114): Birkenweg\, 31162  Bad Salzdetfurth
CATEGORIES:Saison 2025/26
END:VEVENT
BEGIN:VEVENT
DTSTAMP:20260424T145811Z
DTSTART;TZID=Europe/Berlin:20260314T102500
DTEND;TZID=Europe/Berlin:20260314T105500
SUMMARY:Minis A DJK BW Hildesheim vs Mellendorfer TV (81500)
UID:5c88c5e5-004a-4508-bed9-17b9a61197cf
STATUS:CONFIRMED
DESCRIPTION:Minis A\nBegegnungs-Nr: 81500\nHeim: DJK BW Hildesheim\nGast: Mellendorfer TV\nHalle: Hannover\, SZ Sahlkamp   (403252)\nAdresse: Sahlkamp 152\, 30179 Hannover\n
LOCATION:Hannover\, SZ Sahlkamp   (403252): Sahlkamp 152\, 30179 Hannover
CATEGORIES:Saison 2025/26
END:VEVENT
BEGIN:VEVENT
DTSTAMP:20260424T145811Z
DTSTART;TZID=Europe/Berlin:20251123T112500
DTEND;TZID=Europe/Berlin:20251123T115500
SUMMARY:Minis A DJK BW Hildesheim vs TV E. Sehnde II (81194)
UID:fc0a3a71-c305-4114-b73b-5e87de27dcac
STATUS:CONFIRMED
LAST-MODIFIED:20251128T131446Z
DESCRIPTION:Minis A\nBegegnungs-Nr: 81194\nHeim: DJK BW Hildesheim\nGast: TV E. Sehnde II\nHalle: Gronau\, SH (405120)\nAdresse: Am Bahnhof / Lindenallee\, 31028 Gronau / Leine\n
LOCATION:Gronau\, SH (405120): Am Bahnhof / Lindenallee\, 31028 Gronau / Leine
CATEGORIES:Saison 2025/26
END:VEVENT
BEGIN:VEVENT
DTSTAMP:20260424T145811Z
DTSTART;TZID=Europe/Berlin:20250921T112000
DTEND;TZID=Europe/Berlin:20250921T115000
SUMMARY:Minis A DJK BW Hildesheim vs Sportfreunde Söhre v. 1947 e.V. (81059)
UID:f2f29cab-004a-4def-8424-605d6acc6d53
STATUS:CONFIRMED
LAST-MODIFIED:20250922T112047Z
DESCRIPTION:Minis A\nBegegnungs-Nr: 81059\nHeim: DJK BW Hildesheim\nGast: Sportfreunde Söhre v. 1947 e.V.\nHalle: Söhlde\, SH Schulzentrum (405111)\nAdresse: Hinterm Knick\, 31185  Söhlde\n
LOCATION:Söhlde\, SH Schulzentrum (405111): Hinterm Knick\, 31185  Söhlde
CATEGORIES:Saison 2025/26
END:VEVENT
BEGIN:VEVENT
DTSTAMP:20260424T145811Z
DTSTART;TZID=Europe/Berlin:20260124T143000
DTEND;TZID=Europe/Berlin:20260124T150000
SUMMARY:Minis A DJK BW Hildesheim vs HSG Laatzen-Rethen (81331)
UID:a47b0ee4-3a85-4a53-b821-e418869eaee6
STATUS:CONFIRMED
LAST-MODIFIED:20260226T145952Z
DESCRIPTION:Minis A\nBegegnungs-Nr: 81331\nHeim: DJK BW Hildesheim\nGast: HSG Laatzen-Rethen\nHalle: Hildesheim\, SH Stadtmitte (405102)\nAdresse: Pfaffenstieg\, 31134 Hildesheim (OT Mitte)\n
LOCATION:Hildesheim\, SH Stadtmitte (405102): Pfaffenstieg\, 31134 Hildesheim (OT Mitte)
CATEGORIES:Saison 2025/26
END:VEVENT
BEGIN:VEVENT
DTSTAMP:20260424T145811Z
DTSTART;TZID=Europe/Berlin:20260124T164500
DTEND;TZID=Europe/Berlin:20260124T171500
SUMMARY:Minis A DJK BW Hildesheim vs VfL Hameln (81341)
UID:50f55e0c-02ed-4893-b407-928a909caa57
STATUS:CONFIRMED
LAST-MODIFIED:20260226T150054Z
DESCRIPTION:Minis A\nBegegnungs-Nr: 81341\nHeim: DJK BW Hildesheim\nGast: VfL Hameln\nHalle: Hildesheim\, SH Stadtmitte (405102)\nAdresse: Pfaffenstieg\, 31134 Hildesheim (OT Mitte)\n
LOCATION:Hildesheim\, SH Stadtmitte (405102): Pfaffenstieg\, 31134 Hildesheim (OT Mitte)
CATEGORIES:Saison 2025/26
END:VEVENT
BEGIN:VEVENT
DTSTAMP:20260424T145811Z
DTSTART;TZID=Europe/Berlin:20251109T100000
DTEND;TZID=Europe/Berlin:20251109T103000
SUMMARY:Minis A MTV Elze vs DJK BW Hildesheim (81091)
UID:a11031ef-1948-4edd-ae72-e27f7e30000e
STATUS:CONFIRMED
LAST-MODIFIED:20251117T170215Z
DESCRIPTION:Minis A\nBegegnungs-Nr: 81091\nHeim: MTV Elze\nGast: DJK BW Hildesheim\nHalle: Elze\, SH (405121)\nAdresse: Sehlder Straße 20\, 31008 Elze / Leine\n
LOCATION:Elze\, SH (405121): Sehlder Straße 20\, 31008 Elze / Leine
CATEGORIES:Saison 2025/26
END:VEVENT
BEGIN:VEVENT
DTSTAMP:20260424T145811Z
DTSTART;TZID=Europe/Berlin:20251109T115000
DTEND;TZID=Europe/Berlin:20251109T122000
SUMMARY:Minis A HSG Laatzen-Rethen II vs DJK BW Hildesheim (81101)
UID:74d69628-d744-46c5-89b0-dedb4e5dc6d3
STATUS:CONFIRMED
LAST-MODIFIED:20251117T170357Z
DESCRIPTION:Minis A\nBegegnungs-Nr: 81101\nHeim: HSG Laatzen-Rethen II\nGast: DJK BW Hildesheim\nHalle: Elze\, SH (405121)\nAdresse: Sehlder Straße 20\, 31008 Elze / Leine\n
LOCATION:Elze\, SH (405121): Sehlder Straße 20\, 31008 Elze / Leine
CATEGORIES:Saison 2025/26
END:VEVENT
BEGIN:VEVENT
DTSTAMP:20260424T145811Z
DTSTART;TZID=Europe/Berlin:20260425T105500
DTEND;TZID=Europe/Berlin:20260425T112500
SUMMARY:Minis A SG Börde Handball vs DJK BW Hildesheim (81607)
UID:5c92f2ec-fe12-4080-bb9b-581d75565421
STATUS:CONFIRMED
DESCRIPTION:Minis A\nBegegnungs-Nr: 81607\nHeim: SG Börde Handball\nGast: DJK BW Hildesheim\nHalle: Hildesheim\, SH Stadtmitte (405102)\nAdresse: Pfaffenstieg\, 31134 Hildesheim (OT Mitte)\n
LOCATION:Hildesheim\, SH Stadtmitte (405102): Pfaffenstieg\, 31134 Hildesheim (OT Mitte)
CATEGORIES:Saison 2025/26
END:VEVENT
BEGIN:VEVENT
DTSTAMP:20260424T145811Z
DTSTART;TZID=Europe/Berlin:20260214T112000
DTEND;TZID=Europe/Berlin:20260214T115000
SUMMARY:Minis A Sportfreunde Söhre v. 1947 e.V. vs DJK BW Hildesheim (81384)
UID:507f7a8e-5f92-4ec9-ba56-793d931cee74
STATUS:CONFIRMED
LAST-MODIFIED:20260226T142505Z
DESCRIPTION:Minis A\nBegegnungs-Nr: 81384\nHeim: Sportfreunde Söhre v. 1947 e.V.\nGast: DJK BW Hildesheim\nHalle: Bad Salzdetfurth\, SH Schulzentrum (405114)\nAdresse: Birkenweg\, 31162  Bad Salzdetfurth\n
LOCATION:Bad Salzdetfurth\, SH Schulzentrum (405114): Birkenweg\, 31162  Bad Salzdetfurth
CATEGORIES:Saison 2025/26
END:VEVENT
BEGIN:VEVENT
DTSTAMP:20260424T145811Z
DTSTART;TZID=Europe/Berlin:20260214T121500
DTEND;TZID=Europe/Berlin:20260214T124500
SUMMARY:Minis A SV E Bad Salzdetfurth vs DJK BW Hildesheim (81388)
UID:aea44eeb-cbc2-46af-9dbc-4bb552dfca3f
STATUS:CONFIRMED
LAST-MODIFIED:20260226T142521Z
DESCRIPTION:Minis A\nBegegnungs-Nr: 81388\nHeim: SV E Bad Salzdetfurth\nGast: DJK BW Hildesheim\nHalle: Bad Salzdetfurth\, SH Schulzentrum (405114)\nAdresse: Birkenweg\, 31162  Bad Salzdetfurth\n
LOCATION:Bad Salzdetfurth\, SH Schulzentrum (405114): Birkenweg\, 31162  Bad Salzdetfurth
CATEGORIES:Saison 2025/26
END:VEVENT
BEGIN:VEVENT
DTSTAMP:20260424T145811Z
DTSTART;TZID=Europe/Berlin:20260314T112000
DTEND;TZID=Europe/Berlin:20260314T115000
SUMMARY:Minis A Garbsener SC vs DJK BW Hildesheim (81507)
UID:355cf22c-37a1-4a22-9fb8-7ec17ce6fbc2
STATUS:CONFIRMED
DESCRIPTION:Minis A\nBegegnungs-Nr: 81507\nHeim: Garbsener SC\nGast: DJK BW Hildesheim\nHalle: Hannover\, SZ Sahlkamp   (403252)\nAdresse: Sahlkamp 152\, 30179 Hannover\n
LOCATION:Hannover\, SZ Sahlkamp   (403252): Sahlkamp 152\, 30179 Hannover
CATEGORIES:Saison 2025/26
END:VEVENT
BEGIN:VEVENT
DTSTAMP:20260424T145811Z
DTSTART;TZID=Europe/Berlin:20260314T121500
DTEND;TZID=Europe/Berlin:20260314T124500
SUMMARY:Minis A SC Germania List vs DJK BW Hildesheim (81514)
UID:cbbddeb9-c835-4cc7-994d-a49b8a00c202
STATUS:CONFIRMED
DESCRIPTION:Minis A\nBegegnungs-Nr: 81514\nHeim: SC Germania List\nGast: DJK BW Hildesheim\nHalle: Hannover\, SZ Sahlkamp   (403252)\nAdresse: Sahlkamp 152\, 30179 Hannover\n
LOCATION:Hannover\, SZ Sahlkamp   (403252): Sahlkamp 152\, 30179 Hannover
CATEGORIES:Saison 2025/26
END:VEVENT
BEGIN:VEVENT
DTSTAMP:20260424T145811Z
DTSTART;TZID=Europe/Berlin:20251123T122000
DTEND;TZID=Europe/Berlin:20251123T125000
SUMMARY:Minis A TV E. Sehnde vs DJK BW Hildesheim (81204)
UID:4dc51271-f0da-48a0-ae96-d5333186a697
STATUS:CONFIRMED
LAST-MODIFIED:20251128T131558Z
DESCRIPTION:Minis A\nBegegnungs-Nr: 81204\nHeim: TV E. Sehnde\nGast: DJK BW Hildesheim\nHalle: Gronau\, SH (405120)\nAdresse: Am Bahnhof / Lindenallee\, 31028 Gronau / Leine\n
LOCATION:Gronau\, SH (405120): Am Bahnhof / Lindenallee\, 31028 Gronau / Leine
CATEGORIES:Saison 2025/26
END:VEVENT
BEGIN:VEVENT
DTSTAMP:20260424T145811Z
DTSTART;TZID=Europe/Berlin:20251123T131500
DTEND;TZID=Europe/Berlin:20251123T134500
SUMMARY:Minis A HSG 09 Gronau/Barfelde vs DJK BW Hildesheim (81208)
UID:4bf89dfb-59c4-4ad2-ac28-1ac932dee94c
STATUS:CONFIRMED
LAST-MODIFIED:20251204T103739Z
DESCRIPTION:Minis A\nBegegnungs-Nr: 81208\nHeim: HSG 09 Gronau/Barfelde\nGast: DJK BW Hildesheim\nHalle: Gronau\, SH (405120)\nAdresse: Am Bahnhof / Lindenallee\, 31028 Gronau / Leine\n
LOCATION:Gronau\, SH (405120): Am Bahnhof / Lindenallee\, 31028 Gronau / Leine
CATEGORIES:Saison 2025/26
END:VEVENT
BEGIN:VEVENT
DTSTAMP:20260424T145811Z
DTSTART;TZID=Europe/Berlin:20250921T100000
DTEND;TZID=Europe/Berlin:20250921T103000
SUMMARY:Minis A SG Börde Handball vs DJK BW Hildesheim (81041)
UID:dc48f939-2fb7-478d-a068-366c0694206e
STATUS:CONFIRMED
LAST-MODIFIED:20250922T111940Z
DESCRIPTION:Minis A\nBegegnungs-Nr: 81041\nHeim: SG Börde Handball\nGast: DJK BW Hildesheim\nHalle: Söhlde\, SH Schulzentrum (405111)\nAdresse: Hinterm Knick\, 31185  Söhlde\n
LOCATION:Söhlde\, SH Schulzentrum (405111): Hinterm Knick\, 31185  Söhlde
CATEGORIES:Saison 2025/26
END:VEVENT
BEGIN:VEVENT
DTSTAMP:20260424T145811Z
DTSTART;TZID=Europe/Berlin:20250921T115000
DTEND;TZID=Europe/Berlin:20250921T122000
SUMMARY:Minis A TuS GW Himmelsthür vs DJK BW Hildesheim (81065)
UID:520aa6d9-42c3-4a32-a5e2-d50a5a20de31
STATUS:CONFIRMED
LAST-MODIFIED:20250922T112108Z
DESCRIPTION:Minis A\nBegegnungs-Nr: 81065\nHeim: TuS GW Himmelsthür\nGast: DJK BW Hildesheim\nHalle: Söhlde\, SH Schulzentrum (405111)\nAdresse: Hinterm Knick\, 31185  Söhlde\n
LOCATION:Söhlde\, SH Schulzentrum (405111): Hinterm Knick\, 31185  Söhlde
CATEGORIES:Saison 2025/26
END:VEVENT
BEGIN:VEVENT
DTSTAMP:20260424T145811Z
DTSTART;TZID=Europe/Berlin:20260124T152500
DTEND;TZID=Europe/Berlin:20260124T155500
SUMMARY:Minis A HSG Deister Süntel vs DJK BW Hildesheim (81336)
UID:a74cea5f-1f0d-4eeb-afb5-ed6ad401a872
STATUS:CONFIRMED
LAST-MODIFIED:20260226T150019Z
DESCRIPTION:Minis A\nBegegnungs-Nr: 81336\nHeim: HSG Deister Süntel\nGast: DJK BW Hildesheim\nHalle: Hildesheim\, SH Stadtmitte (405102)\nAdresse: Pfaffenstieg\, 31134 Hildesheim (OT Mitte)\n
LOCATION:Hildesheim\, SH Stadtmitte (405102): Pfaffenstieg\, 31134 Hildesheim (OT Mitte)
CATEGORIES:Saison 2025/26
END:VEVENT
END:VCALENDAR
